Workbook

Sheet A. Instructions
A1: Description | B1: This spreadsheet is meant to be a tool for students, especially students pursuing the MDiv or STB, to use to make multi-year course plans.
A2: Step 1 | B2: In tab B, in the yellow box, enter the first semester of studies. The format is important. It should be either "Fall" or "Spring", followed by a space, followed by a four digit year. For example "Fall 2024". Row 2 in tab B should now have the correct semesters for an eight year clerical formation
A3: Step 2 | B3: The course projections in tab D should match the current multi-year projections from the DSPT website. Note that these are subject to change. The cells in tab B will turn blue when a course is projected to be offered in the corresponding semester. If a row in tab B does not show any blue squares but the course does show blue squares on tab D, make sure the name of the course matches exactly the name of the course in tab D.
A4: Step 3 | B4: In tab B, for each course, put an 'x' (or any other mark) in the box corresponding to the semester it has been taken or planned to be taken. In row 3 of tab B, it will show the total units taken in a given semester. In column V, it will show how many units have already been completed for the requirement, and column W will show units to be completed based on whether you put an x in that row. When both show 0, it means you need to add an x somewhere in that row, to indicate when you plan to take this course. This is useful for keeping track of which requirements you have or will have met. The table is pre-filled with example values.
B5: In Tab C, a course plan for each semester will be automatically generated based on where you put unit values in tab B

Sheet B. Student Course Plan
A1: Course | B1: Units | C1: Scheduling Cycle (yrs) | D1: MDiv req. or pre-req. | E1: Comp. Curric. | F1: RSP req. | G1: STB req. | H1: Biennium I, Fall | I1: Biennium I, Spring | J1: Biennium II, Fall | K1: Biennium II, Spring | L1: Residency Year, Fall | M1: Residency Year, Spring | N1: Theology I, Fall | O1: Theology I, Spring | P1: Theology II, Fall | Q1: Theology II, Spring | R1: Theology III, Fall (Abroad?) | S1: Theology III, Spring (Abroad?) | T1: Theology IV, Fall | U1: Theology IV, Spring | V1: Course Waiver (Granted Petition) | W1: Completed Units | X1: Planned or In Progress Units | Y1: Total Planned and Completed Units
A2: Semester (See directions in Tab A for set up) | H2: Fall 2025 | I2: =_xlfn.LET( _xlpm.term, _xlfn.TEXTBEFORE(H2," "), _xlpm.yr, VALUE(_xlfn.TEXTAFTER(H2," ")), CHOOSE( _xlfn.XMATCH(_xlpm.term, {"Spring","Fall"}), "Fall "&_xlpm.yr, "Spring "&(_xlpm.yr+1) ) ) -> Spring 2026 | J2: =_xlfn.LET( _xlpm.term, _xlfn.TEXTBEFORE(I2," "), _xlpm.yr, VALUE(_xlfn.TEXTAFTER(I2," ")), CHOOSE( _xlfn.XMATCH(_xlpm.term, {"Spring","Fall"}), "Fall "&_xlpm.yr, "Spring "&(_xlpm.yr+1) ) ) -> Fall 2026 | K2: =_xlfn.LET( _xlpm.term, _xlfn.TEXTBEFORE(J2," "), _xlpm.yr, VALUE(_xlfn.TEXTAFTER(J2," ")), CHOOSE( _xlfn.XMATCH(_xlpm.term, {"Spring","Fall"}), "Fall "&_xlpm.yr, "Spring "&(_xlpm.yr+1) ) ) -> Spring 2027 | L2: =_xlfn.LET( _xlpm.term, _xlfn.TEXTBEFORE(K2," "), _xlpm.yr, VALUE(_xlfn.TEXTAFTER(K2," ")), CHOOSE( _xlfn.XMATCH(_xlpm.term, {"Spring","Fall"}), "Fall "&_xlpm.yr, "Spring "&(_xlpm.yr+1) ) ) -> Fall 2027 | M2: =_xlfn.LET( _xlpm.term, _xlfn.TEXTBEFORE(L2," "), _xlpm.yr, VALUE(_xlfn.TEXTAFTER(L2," ")), CHOOSE( _xlfn.XMATCH(_xlpm.term, {"Spring","Fall"}), "Fall "&_xlpm.yr, "Spring "&(_xlpm.yr+1) ) ) -> Spring 2028 | N2: =_xlfn.LET( _xlpm.term, _xlfn.TEXTBEFORE(M2," "), _xlpm.yr, VALUE(_xlfn.TEXTAFTER(M2," ")), CHOOSE( _xlfn.XMATCH(_xlpm.term, {"Spring","Fall"}), "Fall "&_xlpm.yr, "Spring "&(_xlpm.yr+1) ) ) -> Fall 2028 | O2: =_xlfn.LET( _xlpm.term, _xlfn.TEXTBEFORE(N2," "), _xlpm.yr, VALUE(_xlfn.TEXTAFTER(N2," ")), CHOOSE( _xlfn.XMATCH(_xlpm.term, {"Spring","Fall"}), "Fall "&_xlpm.yr, "Spring "&(_xlpm.yr+1) ) ) -> Spring 2029 | P2: =_xlfn.LET( _xlpm.term, _xlfn.TEXTBEFORE(O2," "), _xlpm.yr, VALUE(_xlfn.TEXTAFTER(O2," ")), CHOOSE( _xlfn.XMATCH(_xlpm.term, {"Spring","Fall"}), "Fall "&_xlpm.yr, "Spring "&(_xlpm.yr+1) ) ) -> Fall 2029 | ... U2: =_xlfn.LET( _xlpm.term, _xlfn.TEXTBEFORE(T2," "), _xlpm.yr, VALUE(_xlfn.TEXTAFTER(T2," ")), CHOOSE( _xlfn.XMATCH(_xlpm.term, {"Spring","Fall"}), "Fall "&_xlpm.yr, "Spring "&(_xlpm.yr+1) ) ) -> Spring 2032
A3: Approximate Semester End Date | H3: =DATE( VALUE(RIGHT(H2,4)), IF(LEFT(H2,6)="Spring",5, IF(LEFT(H2,4)="Fall",12,"")), 20 ) -> 46011 | I3: =DATE( VALUE(RIGHT(I2,4)), IF(LEFT(I2,6)="Spring",5, IF(LEFT(I2,4)="Fall",12,"")), 20 ) -> 46162 | J3: =DATE( VALUE(RIGHT(J2,4)), IF(LEFT(J2,6)="Spring",5, IF(LEFT(J2,4)="Fall",12,"")), 20 ) -> 46376 | K3: =DATE( VALUE(RIGHT(K2,4)), IF(LEFT(K2,6)="Spring",5, IF(LEFT(K2,4)="Fall",12,"")), 20 ) -> 46527 | L3: =DATE( VALUE(RIGHT(L2,4)), IF(LEFT(L2,6)="Spring",5, IF(LEFT(L2,4)="Fall",12,"")), 20 ) -> 46741 | M3: =DATE( VALUE(RIGHT(M2,4)), IF(LEFT(M2,6)="Spring",5, IF(LEFT(M2,4)="Fall",12,"")), 20 ) -> 46893 | N3: =DATE( VALUE(RIGHT(N2,4)), IF(LEFT(N2,6)="Spring",5, IF(LEFT(N2,4)="Fall",12,"")), 20 ) -> 47107 | O3: =DATE( VALUE(RIGHT(O2,4)), IF(LEFT(O2,6)="Spring",5, IF(LEFT(O2,4)="Fall",12,"")), 20 ) -> 47258 | ... U3: =DATE( VALUE(RIGHT(U2,4)), IF(LEFT(U2,6)="Spring",5, IF(LEFT(U2,4)="Fall",12,"")), 20 ) -> 48354
A4: Total Units per Semester | H4: {=SUMPRODUCT((H6:H87<>"")*$B6:$B87)} -> 13.5 | I4: {=SUMPRODUCT((I6:I87<>"")*$B6:$B87)} -> 13.5 | J4: {=SUMPRODUCT((J6:J87<>"")*$B6:$B87)} -> 13.5 | K4: {=SUMPRODUCT((K6:K87<>"")*$B6:$B87)} -> 13.5 | L4: {=SUMPRODUCT((L6:L87<>"")*$B6:$B87)} -> 1.5 | M4: {=SUMPRODUCT((M6:M87<>"")*$B6:$B87)} -> 1.5 | N4: {=SUMPRODUCT((N6:N87<>"")*$B6:$B87)} -> 13.5 | O4: {=SUMPRODUCT((O6:O87<>"")*$B6:$B87)} -> 12 | ... U4: {=SUMPRODUCT((U6:U87<>"")*$B6:$B87)} -> 13.5 | W4: {=SUMPRODUCT((H$3:U$3<TODAY())*H4:U4)} -> 27 | X4: {=SUMPRODUCT((H$3:U$3>=TODAY())*H4:U4)} -> 127.5 | Y4: =Table1[[#This Row],[Completed Units]]+Table1[[#This Row],[Planned or In Progress Units]] -> 154.5
A5: Academic Practicum Courses
A6: MA-1101 Graduate Seminar Intro 1 | B6: 1.5 | C6: 1 | D6: (pre) | G6: X | H6: x | W6: =Table1[[#This Row],[Units]]*COUNTIFS($H$3:$U$3,"<"&TODAY(),$H6:$U6,"<>") -> 1.5 | X6: =Table1[[#This Row],[Units]]*COUNTIFS($H$3:$U$3,">="&TODAY(),$H6:$U6,"<>") -> 0 | Y6: =Table1[[#This Row],[Completed Units]]+Table1[[#This Row],[Planned or In Progress Units]] -> 1.5
A7: MA-1102 Graduate Seminar Intro 2 | B7: 1.5 | C7: 1 | D7: (pre) | G7: X | I7: x | W7: =Table1[[#This Row],[Units]]*COUNTIFS($H$3:$U$3,"<"&TODAY(),$H7:$U7,"<>") -> 1.5 | X7: =Table1[[#This Row],[Units]]*COUNTIFS($H$3:$U$3,">="&TODAY(),$H7:$U7,"<>") -> 0 | Y7: =Table1[[#This Row],[Completed Units]]+Table1[[#This Row],[Planned or In Progress Units]] -> 1.5
A8: MA-4101 Graduate Seminar Capstone 1 | B8: 1.5 | C8: 1 | G8: X | P8: x | W8: =Table1[[#This Row],[Units]]*COUNTIFS($H$3:$U$3,"<"&TODAY(),$H8:$U8,"<>") -> 0 | X8: =Table1[[#This Row],[Units]]*COUNTIFS($H$3:$U$3,">="&TODAY(),$H8:$U8,"<>") -> 1.5 | Y8: =Table1[[#This Row],[Completed Units]]+Table1[[#This Row],[Planned or In Progress Units]] -> 1.5
A9: MA-4102 Graduate Seminar Capstone 2 | B9: 1.5 | C9: 1 | G9: X | Q9: x | W9: =Table1[[#This Row],[Units]]*COUNTIFS($H$3:$U$3,"<"&TODAY(),$H9:$U9,"<>") -> 0 | X9: =Table1[[#This Row],[Units]]*COUNTIFS($H$3:$U$3,">="&TODAY(),$H9:$U9,"<>") -> 1.5 | Y9: =Table1[[#This Row],[Completed Units]]+Table1[[#This Row],[Planned or In Progress Units]] -> 1.5
A10: Languages
A11: BS-1032 Latin I | B11: 3 | C11: 1 | F11: X | G11: X | J11: x | W11: =Table1[[#This Row],[Units]]*COUNTIFS($H$3:$U$3,"<"&TODAY(),$H11:$U11,"<>") -> 0 | X11: =Table1[[#This Row],[Units]]*COUNTIFS($H$3:$U$3,">="&TODAY(),$H11:$U11,"<>") -> 3 | Y11: =Table1[[#This Row],[Completed Units]]+Table1[[#This Row],[Planned or In Progress Units]] -> 3
A12: BS-1033 Latin II | B12: 3 | C12: 1 | F12: X | G12: X | K12: x | W12: =Table1[[#This Row],[Units]]*COUNTIFS($H$3:$U$3,"<"&TODAY(),$H12:$U12,"<>") -> 0 | X12: =Table1[[#This Row],[Units]]*COUNTIFS($H$3:$U$3,">="&TODAY(),$H12:$U12,"<>") -> 3 | Y12: =Table1[[#This Row],[Completed Units]]+Table1[[#This Row],[Planned or In Progress Units]] -> 3
A13: Systematic Philosophy
A14: Intro to Philosophy | B14: 1.5 | C14: N/A | G14: X | V14: yes | W14: =Table1[[#This Row],[Units]]*COUNTIFS($H$3:$U$3,"<"&TODAY(),$H14:$U14,"<>") -> 0 | X14: =Table1[[#This Row],[Units]]*COUNTIFS($H$3:$U$3,">="&TODAY(),$H14:$U14,"<>") -> 0 | Y14: =Table1[[#This Row],[Completed Units]]+Table1[[#This Row],[Planned or In Progress Units]] -> 0
A15: PH-1115 Aristotelian Logic | B15: 3 | C15: 1 | D15: (pre) | F15: X | G15: X | H15: x | W15: =Table1[[#This Row],[Units]]*COUNTIFS($H$3:$U$3,"<"&TODAY(),$H15:$U15,"<>") -> 3 | X15: =Table1[[#This Row],[Units]]*COUNTIFS($H$3:$U$3,">="&TODAY(),$H15:$U15,"<>") -> 0 | Y15: =Table1[[#This Row],[Completed Units]]+Table1[[#This Row],[Planned or In Progress Units]] -> 3
A16: PH-1056 Philosophy of Nature | B16: 3 | C16: 1 | D16: (pre) | F16: X | G16: X | H16: x | W16: =Table1[[#This Row],[Units]]*COUNTIFS($H$3:$U$3,"<"&TODAY(),$H16:$U16,"<>") -> 3 | X16: =Table1[[#This Row],[Units]]*COUNTIFS($H$3:$U$3,">="&TODAY(),$H16:$U16,"<>") -> 0 | Y16: =Table1[[#This Row],[Completed Units]]+Table1[[#This Row],[Planned or In Progress Units]] -> 3
A17: PH-1009 Philosophical Ethics | B17: 3 | C17: 1 | F17: X | G17: X | H17: x | W17: =Table1[[#This Row],[Units]]*COUNTIFS($H$3:$U$3,"<"&TODAY(),$H17:$U17,"<>") -> 3 | X17: =Table1[[#This Row],[Units]]*COUNTIFS($H$3:$U$3,">="&TODAY(),$H17:$U17,"<>") -> 0 | Y17: =Table1[[#This Row],[Completed Units]]+Table1[[#This Row],[Planned or In Progress Units]] -> 3
A18: PH-1065 Theory of Knowledge | B18: 3 | C18: 1 | F18: X | G18: X | I18: x | W18: =Table1[[#This Row],[Units]]*COUNTIFS($H$3:$U$3,"<"&TODAY(),$H18:$U18,"<>") -> 3 | X18: =Table1[[#This Row],[Units]]*COUNTIFS($H$3:$U$3,">="&TODAY(),$H18:$U18,"<>") -> 0 | Y18: =Table1[[#This Row],[Completed Units]]+Table1[[#This Row],[Planned or In Progress Units]] -> 3
A19: PH-2040 Philosophical Anthropology | B19: 3 | C19: 1 | F19: X | G19: X | I19: x | W19: =Table1[[#This Row],[Units]]*COUNTIFS($H$3:$U$3,"<"&TODAY(),$H19:$U19,"<>") -> 3 | X19: =Table1[[#This Row],[Units]]*COUNTIFS($H$3:$U$3,">="&TODAY(),$H19:$U19,"<>") -> 0 | Y19: =Table1[[#This Row],[Completed Units]]+Table1[[#This Row],[Planned or In Progress Units]] -> 3
A20: PH-2050 Metaphysics | B20: 3 | C20: 1 | F20: X | G20: X | I20: x | W20: =Table1[[#This Row],[Units]]*COUNTIFS($H$3:$U$3,"<"&TODAY(),$H20:$U20,"<>") -> 3 | X20: =Table1[[#This Row],[Units]]*COUNTIFS($H$3:$U$3,">="&TODAY(),$H20:$U20,"<>") -> 0 | Y20: =Table1[[#This Row],[Completed Units]]+Table1[[#This Row],[Planned or In Progress Units]] -> 3
A21: History of Philosophy
A22: PHHS-1050 History of Philosophy: Ancient | B22: 3 | C22: 1 | D22: (pre) | F22: X | G22: X | H22: x | W22: =Table1[[#This Row],[Units]]*COUNTIFS($H$3:$U$3,"<"&TODAY(),$H22:$U22,"<>") -> 3 | X22: =Table1[[#This Row],[Units]]*COUNTIFS($H$3:$U$3,">="&TODAY(),$H22:$U22,"<>") -> 0 | Y22: =Table1[[#This Row],[Completed Units]]+Table1[[#This Row],[Planned or In Progress Units]] -> 3
A23: PHHS-1051 History of Philosophy: Medieval | B23: 3 | C23: 1 | D23: (pre) | F23: X | G23: X | I23: x | W23: =Table1[[#This Row],[Units]]*COUNTIFS($H$3:$U$3,"<"&TODAY(),$H23:$U23,"<>") -> 3 | X23: =Table1[[#This Row],[Units]]*COUNTIFS($H$3:$U$3,">="&TODAY(),$H23:$U23,"<>") -> 0 | Y23: =Table1[[#This Row],[Completed Units]]+Table1[[#This Row],[Planned or In Progress Units]] -> 3
A24: PHHS-2000 Modern Philosophy | B24: 3 | C24: 1 | D24: (pre) | F24: X | G24: X | J24: x | W24: =Table1[[#This Row],[Units]]*COUNTIFS($H$3:$U$3,"<"&TODAY(),$H24:$U24,"<>") -> 0 | X24: =Table1[[#This Row],[Units]]*COUNTIFS($H$3:$U$3,">="&TODAY(),$H24:$U24,"<>") -> 3 | Y24: =Table1[[#This Row],[Completed Units]]+Table1[[#This Row],[Planned or In Progress Units]] -> 3
A25: PHHS-2001 Contemporary Philosophy | B25: 3 | C25: 1 | D25: (pre) | F25: X | G25: X | K25: x | W25: =Table1[[#This Row],[Units]]*COUNTIFS($H$3:$U$3,"<"&TODAY(),$H25:$U25,"<>") -> 0 | X25: =Table1[[#This Row],[Units]]*COUNTIFS($H$3:$U$3,">="&TODAY(),$H25:$U25,"<>") -> 3 | Y25: =Table1[[#This Row],[Completed Units]]+Table1[[#This Row],[Planned or In Progress Units]] -> 3
A26: Sacred Scripture
A27: BS-1560 Intro to Sacred Scripture | B27: 3 | C27: 1 | D27: X | F27: X | G27: X | J27: x | W27: =Table1[[#This Row],[Units]]*COUNTIFS($H$3:$U$3,"<"&TODAY(),$H27:$U27,"<>") -> 0 | X27: =Table1[[#This Row],[Units]]*COUNTIFS($H$3:$U$3,">="&TODAY(),$H27:$U27,"<>") -> 3 | Y27: =Table1[[#This Row],[Completed Units]]+Table1[[#This Row],[Planned or In Progress Units]] -> 3
A28: OT-2098 Pentateuch & Histories | B28: 3 | C28: 1.5 | D28: 5 of 6 | E28: Last of 6 | F28: X | G28: X | O28: x | W28: =Table1[[#This Row],[Units]]*COUNTIFS($H$3:$U$3,"<"&TODAY(),$H28:$U28,"<>") -> 0 | X28: =Table1[[#This Row],[Units]]*COUNTIFS($H$3:$U$3,">="&TODAY(),$H28:$U28,"<>") -> 3 | Y28: =Table1[[#This Row],[Completed Units]]+Table1[[#This Row],[Planned or In Progress Units]] -> 3
A29: OT-2149 Prophets | B29: 3 | C29: 1.5 | D29: 5 of 6 | E29: Last of 6 | F29: X | G29: X | Q29: x | W29: =Table1[[#This Row],[Units]]*COUNTIFS($H$3:$U$3,"<"&TODAY(),$H29:$U29,"<>") -> 0 | X29: =Table1[[#This Row],[Units]]*COUNTIFS($H$3:$U$3,">="&TODAY(),$H29:$U29,"<>") -> 3 | Y29: =Table1[[#This Row],[Completed Units]]+Table1[[#This Row],[Planned or In Progress Units]] -> 3
A30: OT-2600 Wisdom Lit | B30: 3 | C30: 1.5 | D30: 5 of 6 | E30: Last of 6 | F30: X | G30: X | S30: x | W30: =Table1[[#This Row],[Units]]*COUNTIFS($H$3:$U$3,"<"&TODAY(),$H30:$U30,"<>") -> 0 | X30: =Table1[[#This Row],[Units]]*COUNTIFS($H$3:$U$3,">="&TODAY(),$H30:$U30,"<>") -> 3 | Y30: =Table1[[#This Row],[Completed Units]]+Table1[[#This Row],[Planned or In Progress Units]] -> 3
A31: NTBS-2550 The Gospels | B31: 3 | C31: 1.5 | D31: 5 of 6 | E31: Last of 6 | F31: X | G31: X | S31: x | W31: =Table1[[#This Row],[Units]]*COUNTIFS($H$3:$U$3,"<"&TODAY(),$H31:$U31,"<>") -> 0 | X31: =Table1[[#This Row],[Units]]*COUNTIFS($H$3:$U$3,">="&TODAY(),$H31:$U31,"<>") -> 3 | Y31: =Table1[[#This Row],[Completed Units]]+Table1[[#This Row],[Planned or In Progress Units]] -> 3
A32: NT-2526 Pauline Literature | B32: 3 | C32: 1.5 | D32: 5 of 6 | E32: Last of 6 | F32: X | G32: X | N32: x | W32: =Table1[[#This Row],[Units]]*COUNTIFS($H$3:$U$3,"<"&TODAY(),$H32:$U32,"<>") -> 0 | X32: =Table1[[#This Row],[Units]]*COUNTIFS($H$3:$U$3,">="&TODAY(),$H32:$U32,"<>") -> 3 | Y32: =Table1[[#This Row],[Completed Units]]+Table1[[#This Row],[Planned or In Progress Units]] -> 3
A33: NT-2531 Acts, Catholic Epistles, & Revelation | B33: 3 | C33: 1.5 | D33: 5 of 6 | E33: Last of 6 | F33: X | G33: X | R33: x | W33: =Table1[[#This Row],[Units]]*COUNTIFS($H$3:$U$3,"<"&TODAY(),$H33:$U33,"<>") -> 0 | X33: =Table1[[#This Row],[Units]]*COUNTIFS($H$3:$U$3,">="&TODAY(),$H33:$U33,"<>") -> 3 | Y33: =Table1[[#This Row],[Completed Units]]+Table1[[#This Row],[Planned or In Progress Units]] -> 3
A34: Church History
A35: HS-1196 Church History I | B35: 3 | C35: 1 | D35: X | F35: X | G35: X | T35: X | W35: =Table1[[#This Row],[Units]]*COUNTIFS($H$3:$U$3,"<"&TODAY(),$H35:$U35,"<>") -> 0 | X35: =Table1[[#This Row],[Units]]*COUNTIFS($H$3:$U$3,">="&TODAY(),$H35:$U35,"<>") -> 3 | Y35: =Table1[[#This Row],[Completed Units]]+Table1[[#This Row],[Planned or In Progress Units]] -> 3
A36: HS-2196 Church History II | B36: 3 | C36: 1 | D36: X | F36: X | G36: X | U36: X | W36: =Table1[[#This Row],[Units]]*COUNTIFS($H$3:$U$3,"<"&TODAY(),$H36:$U36,"<>") -> 0 | X36: =Table1[[#This Row],[Units]]*COUNTIFS($H$3:$U$3,">="&TODAY(),$H36:$U36,"<>") -> 3 | Y36: =Table1[[#This Row],[Completed Units]]+Table1[[#This Row],[Planned or In Progress Units]] -> 3
A37: Dogmatic / Systematic
A38: STHS-1300 Intro to St. Thomas’s Writings | B38: 1.5 | C38: 1 | G38: X | J38: x | W38: =Table1[[#This Row],[Units]]*COUNTIFS($H$3:$U$3,"<"&TODAY(),$H38:$U38,"<>") -> 0 | X38: =Table1[[#This Row],[Units]]*COUNTIFS($H$3:$U$3,">="&TODAY(),$H38:$U38,"<>") -> 1.5 | Y38: =Table1[[#This Row],[Completed Units]]+Table1[[#This Row],[Planned or In Progress Units]] -> 1.5
A39: ST-1091 Theology: Nature & Method | B39: 3 | C39: 1 | D39: X | F39: X | G39: X | J39: x | W39: =Table1[[#This Row],[Units]]*COUNTIFS($H$3:$U$3,"<"&TODAY(),$H39:$U39,"<>") -> 0 | X39: =Table1[[#This Row],[Units]]*COUNTIFS($H$3:$U$3,">="&TODAY(),$H39:$U39,"<>") -> 3 | Y39: =Table1[[#This Row],[Completed Units]]+Table1[[#This Row],[Planned or In Progress Units]] -> 3
A40: STPH-3095 One Creator God | B40: 3 | C40: 1 | E40: X | F40: X | G40: X | N40: x | W40: =Table1[[#This Row],[Units]]*COUNTIFS($H$3:$U$3,"<"&TODAY(),$H40:$U40,"<>") -> 0 | X40: =Table1[[#This Row],[Units]]*COUNTIFS($H$3:$U$3,">="&TODAY(),$H40:$U40,"<>") -> 3 | Y40: =Table1[[#This Row],[Completed Units]]+Table1[[#This Row],[Planned or In Progress Units]] -> 3
A41: ST-2300 Trinity | B41: 3 | C41: 2 | D41: X | F41: X | G41: X | O41: x | W41: =Table1[[#This Row],[Units]]*COUNTIFS($H$3:$U$3,"<"&TODAY(),$H41:$U41,"<>") -> 0 | X41: =Table1[[#This Row],[Units]]*COUNTIFS($H$3:$U$3,">="&TODAY(),$H41:$U41,"<>") -> 3 | Y41: =Table1[[#This Row],[Completed Units]]+Table1[[#This Row],[Planned or In Progress Units]] -> 3
A42: STHS-2500 Patristic Theology: Christology and the Early Church Councils | B42: 3 | C42: 2 | D42: X | F42: X | G42: X | P42: x | W42: =Table1[[#This Row],[Units]]*COUNTIFS($H$3:$U$3,"<"&TODAY(),$H42:$U42,"<>") -> 0 | X42: =Table1[[#This Row],[Units]]*COUNTIFS($H$3:$U$3,">="&TODAY(),$H42:$U42,"<>") -> 3 | Y42: =Table1[[#This Row],[Completed Units]]+Table1[[#This Row],[Planned or In Progress Units]] -> 3
A43: STHS-2650 Systematic Christology | B43: 3 | C43: 2 | E43: X | F43: X | G43: X | Q43: x | W43: =Table1[[#This Row],[Units]]*COUNTIFS($H$3:$U$3,"<"&TODAY(),$H43:$U43,"<>") -> 0 | X43: =Table1[[#This Row],[Units]]*COUNTIFS($H$3:$U$3,">="&TODAY(),$H43:$U43,"<>") -> 3 | Y43: =Table1[[#This Row],[Completed Units]]+Table1[[#This Row],[Planned or In Progress Units]] -> 3
A44: STHS-2800 Intro to Eschatology | B44: 1.5 | C44: 2 | G44: X | T44: x | W44: =Table1[[#This Row],[Units]]*COUNTIFS($H$3:$U$3,"<"&TODAY(),$H44:$U44,"<>") -> 0 | X44: =Table1[[#This Row],[Units]]*COUNTIFS($H$3:$U$3,">="&TODAY(),$H44:$U44,"<>") -> 1.5 | Y44: =Table1[[#This Row],[Completed Units]]+Table1[[#This Row],[Planned or In Progress Units]] -> 1.5
A45: STHS-2700 Intro to Mariology | B45: 1.5 | C45: 2 | G45: X | T45: x | W45: =Table1[[#This Row],[Units]]*COUNTIFS($H$3:$U$3,"<"&TODAY(),$H45:$U45,"<>") -> 0 | X45: =Table1[[#This Row],[Units]]*COUNTIFS($H$3:$U$3,">="&TODAY(),$H45:$U45,"<>") -> 1.5 | Y45: =Table1[[#This Row],[Completed Units]]+Table1[[#This Row],[Planned or In Progress Units]] -> 1.5
A46: ST-3128 Theological Anthropology | B46: 3 | C46: 2 | D46: X | F46: X | G46: X | U46: x | W46: =Table1[[#This Row],[Units]]*COUNTIFS($H$3:$U$3,"<"&TODAY(),$H46:$U46,"<>") -> 0 | X46: =Table1[[#This Row],[Units]]*COUNTIFS($H$3:$U$3,">="&TODAY(),$H46:$U46,"<>") -> 3 | Y46: =Table1[[#This Row],[Completed Units]]+Table1[[#This Row],[Planned or In Progress Units]] -> 3
A47: ST-3067 Theology of Sacraments | B47: 3 | C47: 1 | D47: X | F47: X | G47: X | R47: x | W47: =Table1[[#This Row],[Units]]*COUNTIFS($H$3:$U$3,"<"&TODAY(),$H47:$U47,"<>") -> 0 | X47: =Table1[[#This Row],[Units]]*COUNTIFS($H$3:$U$3,">="&TODAY(),$H47:$U47,"<>") -> 3 | Y47: =Table1[[#This Row],[Completed Units]]+Table1[[#This Row],[Planned or In Progress Units]] -> 3
A48: ST-3071 Sacraments: Eucharist & Orders | B48: 3 | C48: 2 | E48: X | F48: X | G48: X | S48: x | W48: =Table1[[#This Row],[Units]]*COUNTIFS($H$3:$U$3,"<"&TODAY(),$H48:$U48,"<>") -> 0 | X48: =Table1[[#This Row],[Units]]*COUNTIFS($H$3:$U$3,">="&TODAY(),$H48:$U48,"<>") -> 3 | Y48: =Table1[[#This Row],[Completed Units]]+Table1[[#This Row],[Planned or In Progress Units]] -> 3
A49: STSP-3036 Ecclesiology: Foundations | B49: 3 | C49: 2 | D49: X | F49: X | G49: X | R49: x | W49: =Table1[[#This Row],[Units]]*COUNTIFS($H$3:$U$3,"<"&TODAY(),$H49:$U49,"<>") -> 0 | X49: =Table1[[#This Row],[Units]]*COUNTIFS($H$3:$U$3,">="&TODAY(),$H49:$U49,"<>") -> 3 | Y49: =Table1[[#This Row],[Completed Units]]+Table1[[#This Row],[Planned or In Progress Units]] -> 3
A50: ST-1401 Intro to Ecumenism, World Religions | B50: 1.5 | C50: 2 | G50: X | U50: x | W50: =Table1[[#This Row],[Units]]*COUNTIFS($H$3:$U$3,"<"&TODAY(),$H50:$U50,"<>") -> 0 | X50: =Table1[[#This Row],[Units]]*COUNTIFS($H$3:$U$3,">="&TODAY(),$H50:$U50,"<>") -> 1.5 | Y50: =Table1[[#This Row],[Completed Units]]+Table1[[#This Row],[Planned or In Progress Units]] -> 1.5
A51: Moral Theology
A52: ST-2161 Introduction to Spiritual Theology | B52: 1.5 | C52: 2 | G52: X | Q52: x | W52: =Table1[[#This Row],[Units]]*COUNTIFS($H$3:$U$3,"<"&TODAY(),$H52:$U52,"<>") -> 0 | X52: =Table1[[#This Row],[Units]]*COUNTIFS($H$3:$U$3,">="&TODAY(),$H52:$U52,"<>") -> 1.5 | Y52: =Table1[[#This Row],[Completed Units]]+Table1[[#This Row],[Planned or In Progress Units]] -> 1.5
A53: CE-2045 Fundamental Moral Theology | B53: 3 | C53: 1 | D53: X | F53: X | G53: X | K53: x | W53: =Table1[[#This Row],[Units]]*COUNTIFS($H$3:$U$3,"<"&TODAY(),$H53:$U53,"<>") -> 0 | X53: =Table1[[#This Row],[Units]]*COUNTIFS($H$3:$U$3,">="&TODAY(),$H53:$U53,"<>") -> 3 | Y53: =Table1[[#This Row],[Completed Units]]+Table1[[#This Row],[Planned or In Progress Units]] -> 3
A54: CE-2003 Roman Catholic Sexual Ethics | B54: 3 | C54: 2 | D54: X | F54: X | G54: X | O54: x | W54: =Table1[[#This Row],[Units]]*COUNTIFS($H$3:$U$3,"<"&TODAY(),$H54:$U54,"<>") -> 0 | X54: =Table1[[#This Row],[Units]]*COUNTIFS($H$3:$U$3,">="&TODAY(),$H54:$U54,"<>") -> 3 | Y54: =Table1[[#This Row],[Completed Units]]+Table1[[#This Row],[Planned or In Progress Units]] -> 3
A55: CE-3050 Catholic Social Teaching | B55: 3 | C55: 2 | D55: X | F55: X | G55: X | P55: x | W55: =Table1[[#This Row],[Units]]*COUNTIFS($H$3:$U$3,"<"&TODAY(),$H55:$U55,"<>") -> 0 | X55: =Table1[[#This Row],[Units]]*COUNTIFS($H$3:$U$3,">="&TODAY(),$H55:$U55,"<>") -> 3 | Y55: =Table1[[#This Row],[Completed Units]]+Table1[[#This Row],[Planned or In Progress Units]] -> 3
A56: ST-2210 Theological Virtues | B56: 3 | C56: 2 | G56: X | N56: x | W56: =Table1[[#This Row],[Units]]*COUNTIFS($H$3:$U$3,"<"&TODAY(),$H56:$U56,"<>") -> 0 | X56: =Table1[[#This Row],[Units]]*COUNTIFS($H$3:$U$3,">="&TODAY(),$H56:$U56,"<>") -> 3 | Y56: =Table1[[#This Row],[Completed Units]]+Table1[[#This Row],[Planned or In Progress Units]] -> 3
A57: STCE-2211 Cardinal Virtues and Virtue Ethics | B57: 3 | C57: 2 | G57: X | T57: x | W57: =Table1[[#This Row],[Units]]*COUNTIFS($H$3:$U$3,"<"&TODAY(),$H57:$U57,"<>") -> 0 | X57: =Table1[[#This Row],[Units]]*COUNTIFS($H$3:$U$3,">="&TODAY(),$H57:$U57,"<>") -> 3 | Y57: =Table1[[#This Row],[Completed Units]]+Table1[[#This Row],[Planned or In Progress Units]] -> 3
A58: Pastoral Theology
A59: HM-1073 Foundations of Preaching | B59: 3 | C59: 1 | D59: X | F59: X | G59: X | N59: x | W59: =Table1[[#This Row],[Units]]*COUNTIFS($H$3:$U$3,"<"&TODAY(),$H59:$U59,"<>") -> 0 | X59: =Table1[[#This Row],[Units]]*COUNTIFS($H$3:$U$3,">="&TODAY(),$H59:$U59,"<>") -> 3 | Y59: =Table1[[#This Row],[Completed Units]]+Table1[[#This Row],[Planned or In Progress Units]] -> 3
A60: HM-2230 Liturgical Preaching | B60: 3 | C60: 1 | E60: X | F60: X | G60: X | U60: x | W60: =Table1[[#This Row],[Units]]*COUNTIFS($H$3:$U$3,"<"&TODAY(),$H60:$U60,"<>") -> 0 | X60: =Table1[[#This Row],[Units]]*COUNTIFS($H$3:$U$3,">="&TODAY(),$H60:$U60,"<>") -> 3 | Y60: =Table1[[#This Row],[Completed Units]]+Table1[[#This Row],[Planned or In Progress Units]] -> 3
A61: PS-1016 Pastoral Counseling | B61: 3 | C61: 1 | D61: X | F61: X | G61: X | K61: x | W61: =Table1[[#This Row],[Units]]*COUNTIFS($H$3:$U$3,"<"&TODAY(),$H61:$U61,"<>") -> 0 | X61: =Table1[[#This Row],[Units]]*COUNTIFS($H$3:$U$3,">="&TODAY(),$H61:$U61,"<>") -> 3 | Y61: =Table1[[#This Row],[Completed Units]]+Table1[[#This Row],[Planned or In Progress Units]] -> 3
A62: LSRA-1500 Foundations of Catholic Liturgy | B62: 3 | C62: 1 | D62: X | F62: X | G62: X | S62: x | W62: =Table1[[#This Row],[Units]]*COUNTIFS($H$3:$U$3,"<"&TODAY(),$H62:$U62,"<>") -> 0 | X62: =Table1[[#This Row],[Units]]*COUNTIFS($H$3:$U$3,">="&TODAY(),$H62:$U62,"<>") -> 3 | Y62: =Table1[[#This Row],[Completed Units]]+Table1[[#This Row],[Planned or In Progress Units]] -> 3
A63: CEFT-2000 Confessional Ministry | B63: 1.5 | C63: 1 | D63: X | F63: X | G63: X | T63: x | W63: =Table1[[#This Row],[Units]]*COUNTIFS($H$3:$U$3,"<"&TODAY(),$H63:$U63,"<>") -> 0 | X63: =Table1[[#This Row],[Units]]*COUNTIFS($H$3:$U$3,">="&TODAY(),$H63:$U63,"<>") -> 1.5 | Y63: =Table1[[#This Row],[Completed Units]]+Table1[[#This Row],[Planned or In Progress Units]] -> 1.5
A64: LSFT-2404 Celebration of the Sacraments | B64: 1.5 | C64: 1 | D64: X | F64: X | G64: X | Q64: x | W64: =Table1[[#This Row],[Units]]*COUNTIFS($H$3:$U$3,"<"&TODAY(),$H64:$U64,"<>") -> 0 | X64: =Table1[[#This Row],[Units]]*COUNTIFS($H$3:$U$3,">="&TODAY(),$H64:$U64,"<>") -> 1.5 | Y64: =Table1[[#This Row],[Completed Units]]+Table1[[#This Row],[Planned or In Progress Units]] -> 1.5
A65: FT-1400 Introduction to Canon Law | B65: 1.5 | C65: 2 | D65: X | F65: X | G65: X | N65: x | W65: =Table1[[#This Row],[Units]]*COUNTIFS($H$3:$U$3,"<"&TODAY(),$H65:$U65,"<>") -> 0 | X65: =Table1[[#This Row],[Units]]*COUNTIFS($H$3:$U$3,">="&TODAY(),$H65:$U65,"<>") -> 1.5 | Y65: =Table1[[#This Row],[Completed Units]]+Table1[[#This Row],[Planned or In Progress Units]] -> 1.5
A66: FT-2333 Canon Law of the Sacraments | B66: 1.5 | C66: 2 | D66: X | F66: X | G66: X | O66: x | W66: =Table1[[#This Row],[Units]]*COUNTIFS($H$3:$U$3,"<"&TODAY(),$H66:$U66,"<>") -> 0 | X66: =Table1[[#This Row],[Units]]*COUNTIFS($H$3:$U$3,">="&TODAY(),$H66:$U66,"<>") -> 1.5 | Y66: =Table1[[#This Row],[Completed Units]]+Table1[[#This Row],[Planned or In Progress Units]] -> 1.5
A67: FT-2325 Canon Law of Marriage | B67: 1.5 | C67: 2 | E67: X | F67: X | G67: X | O67: x | W67: =Table1[[#This Row],[Units]]*COUNTIFS($H$3:$U$3,"<"&TODAY(),$H67:$U67,"<>") -> 0 | X67: =Table1[[#This Row],[Units]]*COUNTIFS($H$3:$U$3,">="&TODAY(),$H67:$U67,"<>") -> 1.5 | Y67: =Table1[[#This Row],[Completed Units]]+Table1[[#This Row],[Planned or In Progress Units]] -> 1.5
A68: Field Education
A69: FE-1021 Field Education Level I, Part 1 | B69: 0 | C69: 1 | D69: X | F69: X | G69: X | J69: x | W69: =IF(COUNTIFS($H$3:$U$3,"<"&TODAY(),$H69:$U69,"<>")>=1,"yes","") | X69: =IF(COUNTIFS($H$3:$U$3,">="&TODAY(),$H69:$U69,"<>")>=1,"yes","") -> yes | Y69: =IF(OR(Table1[[#This Row],[Completed Units]]<>"",Table1[[#This Row],[Planned or In Progress Units]]<>""),"yes","") -> yes
A70: FE-1022 Field Education Level I, Part 2 | B70: 1.5 | C70: 1 | D70: X | F70: X | G70: X | K70: x | W70: =Table1[[#This Row],[Units]]*COUNTIFS($H$3:$U$3,"<"&TODAY(),$H70:$U70,"<>") -> 0 | X70: =Table1[[#This Row],[Units]]*COUNTIFS($H$3:$U$3,">="&TODAY(),$H70:$U70,"<>") -> 1.5 | Y70: =Table1[[#This Row],[Completed Units]]+Table1[[#This Row],[Planned or In Progress Units]] -> 1.5
A71: FE-2021 Pastoral Ministry Internship Part 1 | B71: 1.5 | C71: 1 | D71: X | F71: X | G71: X | L71: x | W71: =Table1[[#This Row],[Units]]*COUNTIFS($H$3:$U$3,"<"&TODAY(),$H71:$U71,"<>") -> 0 | X71: =Table1[[#This Row],[Units]]*COUNTIFS($H$3:$U$3,">="&TODAY(),$H71:$U71,"<>") -> 1.5 | Y71: =Table1[[#This Row],[Completed Units]]+Table1[[#This Row],[Planned or In Progress Units]] -> 1.5
A72: FE-2022 Pastoral Ministry Internship Part 2 | B72: 1.5 | C72: 1 | D72: X | F72: X | G72: X | M72: x | W72: =Table1[[#This Row],[Units]]*COUNTIFS($H$3:$U$3,"<"&TODAY(),$H72:$U72,"<>") -> 0 | X72: =Table1[[#This Row],[Units]]*COUNTIFS($H$3:$U$3,">="&TODAY(),$H72:$U72,"<>") -> 1.5 | Y72: =Table1[[#This Row],[Completed Units]]+Table1[[#This Row],[Planned or In Progress Units]] -> 1.5
A73: FE-3021 Field Education Level III Part 1 | B73: 0 | C73: 1 | D73: X | F73: X | G73: X | N73: x | W73: =IF(COUNTIFS($H$3:$U$3,"<"&TODAY(),$H73:$U73,"<>")>=1,"yes","") | X73: =IF(COUNTIFS($H$3:$U$3,">="&TODAY(),$H73:$U73,"<>")>=1,"yes","") -> yes | Y73: =IF(OR(Table1[[#This Row],[Completed Units]]<>"",Table1[[#This Row],[Planned or In Progress Units]]<>""),"yes","") -> yes
A74: FE-3022 Field Education Level III Part 2 | B74: 0 | C74: 1 | D74: X | F74: X | G74: X | O74: x | W74: =IF(COUNTIFS($H$3:$U$3,"<"&TODAY(),$H74:$U74,"<>")>=1,"yes","") | X74: =IF(COUNTIFS($H$3:$U$3,">="&TODAY(),$H74:$U74,"<>")>=1,"yes","") -> yes | Y74: =IF(OR(Table1[[#This Row],[Completed Units]]<>"",Table1[[#This Row],[Planned or In Progress Units]]<>""),"yes","") -> yes
A75: FE-3023 Field Education Level III Part 3 | B75: 0 | C75: 1 | D75: X | F75: X | G75: X | P75: x | W75: =IF(COUNTIFS($H$3:$U$3,"<"&TODAY(),$H75:$U75,"<>")>=1,"yes","") | X75: =IF(COUNTIFS($H$3:$U$3,">="&TODAY(),$H75:$U75,"<>")>=1,"yes","") -> yes | Y75: =IF(OR(Table1[[#This Row],[Completed Units]]<>"",Table1[[#This Row],[Planned or In Progress Units]]<>""),"yes","") -> yes
A76: FE-3024 Field Education Level III Part 4 | B76: 1.5 | C76: 1 | D76: X | F76: X | G76: X | Q76: x | W76: =Table1[[#This Row],[Units]]*COUNTIFS($H$3:$U$3,"<"&TODAY(),$H76:$U76,"<>") -> 0 | X76: =Table1[[#This Row],[Units]]*COUNTIFS($H$3:$U$3,">="&TODAY(),$H76:$U76,"<>") -> 1.5 | Y76: =Table1[[#This Row],[Completed Units]]+Table1[[#This Row],[Planned or In Progress Units]] -> 1.5
A77: Portfolio/STB/MA Requirements
A78: 4000 level Elective 1 (if philosophy, probably could also count for STB elective) | B78: 3 | G78: (x) | P78: x | W78: =Table1[[#This Row],[Units]]*COUNTIFS($H$3:$U$3,"<"&TODAY(),$H78:$U78,"<>") -> 0 | X78: =Table1[[#This Row],[Units]]*COUNTIFS($H$3:$U$3,">="&TODAY(),$H78:$U78,"<>") -> 3 | Y78: =Table1[[#This Row],[Completed Units]]+Table1[[#This Row],[Planned or In Progress Units]] -> 3
A79: 4000 level Elective 2 (if philosophy, probably could also count for STB elective) | B79: 3 | G79: (x) | T79: x | W79: =Table1[[#This Row],[Units]]*COUNTIFS($H$3:$U$3,"<"&TODAY(),$H79:$U79,"<>") -> 0 | X79: =Table1[[#This Row],[Units]]*COUNTIFS($H$3:$U$3,">="&TODAY(),$H79:$U79,"<>") -> 3 | Y79: =Table1[[#This Row],[Completed Units]]+Table1[[#This Row],[Planned or In Progress Units]] -> 3
A80: Non-Christian or Interreligious elective (MATh) | B80: 3 | U80: x | W80: =Table1[[#This Row],[Units]]*COUNTIFS($H$3:$U$3,"<"&TODAY(),$H80:$U80,"<>") -> 0 | X80: =Table1[[#This Row],[Units]]*COUNTIFS($H$3:$U$3,">="&TODAY(),$H80:$U80,"<>") -> 3 | Y80: =Table1[[#This Row],[Completed Units]]+Table1[[#This Row],[Planned or In Progress Units]] -> 3
A81: STB Political and/or Social Philosophy Elective | B81: 1.5 | G81: X | P81: x | W81: =Table1[[#This Row],[Units]]*COUNTIFS($H$3:$U$3,"<"&TODAY(),$H81:$U81,"<>") -> 0 | X81: =Table1[[#This Row],[Units]]*COUNTIFS($H$3:$U$3,">="&TODAY(),$H81:$U81,"<>") -> 1.5 | Y81: =Table1[[#This Row],[Completed Units]]+Table1[[#This Row],[Planned or In Progress Units]] -> 1.5
A82: PO-1000 Portfolio Research Readiness Paper Review | B82: 0 | C82: n/a | H82: x | W82: =IF(COUNTIFS($H$3:$U$3,"<"&TODAY(),$H82:$U82,"<>")>=1,"yes","") -> yes | X82: =IF(COUNTIFS($H$3:$U$3,">="&TODAY(),$H82:$U82,"<>")>=1,"yes","") | Y82: =IF(OR(Table1[[#This Row],[Completed Units]]<>"",Table1[[#This Row],[Planned or In Progress Units]]<>""),"yes","") -> yes
A83: MA-5001 MA Foreign Language Proficiency (MA Thesis Option) | B83: 0 | C83: n/a | N83: x | W83: =IF(COUNTIFS($H$3:$U$3,"<"&TODAY(),$H83:$U83,"<>")>=1,"yes","") | X83: =IF(COUNTIFS($H$3:$U$3,">="&TODAY(),$H83:$U83,"<>")>=1,"yes","") -> yes | Y83: =IF(OR(Table1[[#This Row],[Completed Units]]<>"",Table1[[#This Row],[Planned or In Progress Units]]<>""),"yes","") -> yes
A84: MA-5500 MA Thesis Proposal (MA Thesis Option) | B84: 0 | C84: n/a | P84: x | W84: =IF(COUNTIFS($H$3:$U$3,"<"&TODAY(),$H84:$U84,"<>")>=1,"yes","") | X84: =IF(COUNTIFS($H$3:$U$3,">="&TODAY(),$H84:$U84,"<>")>=1,"yes","") -> yes | Y84: =IF(OR(Table1[[#This Row],[Completed Units]]<>"",Table1[[#This Row],[Planned or In Progress Units]]<>""),"yes","") -> yes
A85: MA 5999 MA Thesis Defense (MA Thesis Option) | B85: 0 | C85: n/a | Q85: x | W85: =IF(COUNTIFS($H$3:$U$3,"<"&TODAY(),$H85:$U85,"<>")>=1,"yes","") | X85: =IF(COUNTIFS($H$3:$U$3,">="&TODAY(),$H85:$U85,"<>")>=1,"yes","") -> yes | Y85: =IF(OR(Table1[[#This Row],[Completed Units]]<>"",Table1[[#This Row],[Planned or In Progress Units]]<>""),"yes","") -> yes
A86: MA 5506 MA Capstone Exam (MA Exam Option) | B86: 0 | C86: n/a | P86: x | W86: =IF(COUNTIFS($H$3:$U$3,"<"&TODAY(),$H86:$U86,"<>")>=1,"yes","") | X86: =IF(COUNTIFS($H$3:$U$3,">="&TODAY(),$H86:$U86,"<>")>=1,"yes","") -> yes | Y86: =IF(OR(Table1[[#This Row],[Completed Units]]<>"",Table1[[#This Row],[Planned or In Progress Units]]<>""),"yes","") -> yes
A87: MA 3000 MA Capstone Research Paper (MA Exam Option) | B87: 0 | C87: n/a | Q87: x | W87: =IF(COUNTIFS($H$3:$U$3,"<"&TODAY(),$H87:$U87,"<>")>=1,"yes","") | X87: =IF(COUNTIFS($H$3:$U$3,">="&TODAY(),$H87:$U87,"<>")>=1,"yes","") -> yes | Y87: =IF(OR(Table1[[#This Row],[Completed Units]]<>"",Table1[[#This Row],[Planned or In Progress Units]]<>""),"yes","") -> yes

Sheet C. Student Courses by Semester
A1: Semester: | B1: ='B. Student Course Plan'!H2 -> Fall 2025 | C1: ='B. Student Course Plan'!I2 -> Spring 2026 | D1: ='B. Student Course Plan'!J2 -> Fall 2026 | E1: ='B. Student Course Plan'!K2 -> Spring 2027 | F1: ='B. Student Course Plan'!L2 -> Fall 2027 | G1: ='B. Student Course Plan'!M2 -> Spring 2028 | H1: ='B. Student Course Plan'!N2 -> Fall 2028 | I1: ='B. Student Course Plan'!O2 -> Spring 2029 | ... O1: ='B. Student Course Plan'!U2 -> Spring 2032 | P1: Course Waivers Granted
A2: Units: | B2: ='B. Student Course Plan'!H4 -> 13.5 | C2: ='B. Student Course Plan'!I4 -> 13.5 | D2: ='B. Student Course Plan'!J4 -> 13.5 | E2: ='B. Student Course Plan'!K4 -> 13.5 | F2: ='B. Student Course Plan'!L4 -> 1.5 | G2: ='B. Student Course Plan'!M4 -> 1.5 | H2: ='B. Student Course Plan'!N4 -> 13.5 | I2: ='B. Student Course Plan'!O4 -> 12 | ... O2: ='B. Student Course Plan'!U4 -> 13.5
A3: Courses: | B3: {=_xlfn._xlws.FILTER('B. Student Course Plan'!$A5:$A86,'B. Student Course Plan'!H5:H86<>"")} -> MA-1101 Graduate Seminar Intro 1 | C3: {=_xlfn._xlws.FILTER('B. Student Course Plan'!$A5:$A86,'B. Student Course Plan'!I5:I86<>"")} -> MA-1102 Graduate Seminar Intro 2 | D3: {=_xlfn._xlws.FILTER('B. Student Course Plan'!$A5:$A86,'B. Student Course Plan'!J5:J86<>"")} -> BS-1032 Latin I | E3: {=_xlfn._xlws.FILTER('B. Student Course Plan'!$A5:$A86,'B. Student Course Plan'!K5:K86<>"")} -> BS-1033 Latin II | F3: {=_xlfn._xlws.FILTER('B. Student Course Plan'!$A5:$A86,'B. Student Course Plan'!L5:L86<>"")} -> FE-2021 Pastoral Ministry Internship Part 1 | G3: {=_xlfn._xlws.FILTER('B. Student Course Plan'!$A5:$A86,'B. Student Course Plan'!M5:M86<>"")} -> FE-2022 Pastoral Ministry Internship Part 2 | H3: {=_xlfn._xlws.FILTER('B. Student Course Plan'!$A5:$A86,'B. Student Course Plan'!N5:N86<>"")} -> NT-2526 Pauline Literature | I3: {=_xlfn._xlws.FILTER('B. Student Course Plan'!$A5:$A86,'B. Student Course Plan'!O5:O86<>"")} -> OT-2098 Pentateuch & Histories | ... P3: {=_xlfn._xlws.FILTER('B. Student Course Plan'!$A5:$A86,'B. Student Course Plan'!V5:V86<>"")} -> Intro to Philosophy
B4: PH-1115 Aristotelian Logic | C4: PH-1065 Theory of Knowledge | D4: PHHS-2000 Modern Philosophy | E4: PHHS-2001 Contemporary Philosophy | H4: STPH-3095 One Creator God | I4: ST-2300 Trinity | J4: STHS-2500 Patristic Theology: Christology and the Early Church Councils | K4: OT-2149 Prophets | L4: ST-3067 Theology of Sacraments | M4: NTBS-2550 The Gospels | N4: STHS-2800 Intro to Eschatology | O4: ST-3128 Theological Anthropology
B5: PH-1056 Philosophy of Nature | C5: PH-2040 Philosophical Anthropology | D5: BS-1560 Intro to Sacred Scripture | E5: CE-2045 Fundamental Moral Theology | H5: ST-2210 Theological Virtues | I5: CE-2003 Roman Catholic Sexual Ethics | J5: CE-3050 Catholic Social Teaching | K5: STHS-2650 Systematic Christology | L5: STSP-3036 Ecclesiology: Foundations | M5: ST-3071 Sacraments: Eucharist & Orders | N5: STHS-2700 Intro to Mariology | O5: ST-1401 Intro to Ecumenism, World Religions
B6: PH-1009 Philosophical Ethics | C6: PH-2050 Metaphysics | D6: STHS-1300 Intro to St. Thomas’s Writings | E6: PS-1016 Pastoral Counseling | H6: HM-1073 Foundations of Preaching | I6: FT-2333 Canon Law of the Sacraments | J6: FE-3023 Field Education Level III Part 3 | K6: ST-2161 Introduction to Spiritual Theology | M6: LSRA-1500 Foundations of Catholic Liturgy | N6: STCE-2211 Cardinal Virtues and Virtue Ethics | O6: HM-2230 Liturgical Preaching
B7: PHHS-1050 History of Philosophy: Ancient | C7: PHHS-1051 History of Philosophy: Medieval | D7: ST-1091 Theology: Nature & Method | E7: FE-1022 Field Education Level I, Part 2 | H7: FT-1400 Introduction to Canon Law | I7: FT-2325 Canon Law of Marriage | J7: 4000 level Elective 1 (if philosophy, probably could also count for STB elective) | K7: LSFT-2404 Celebration of the Sacraments | N7: CEFT-2000 Confessional Ministry | O7: Non-Christian or Interreligious elective (MATh)
B8: PO-1000 Portfolio Research Readiness Paper Review | D8: FE-1021 Field Education Level I, Part 1 | H8: FE-3021 Field Education Level III Part 1 | I8: FE-3022 Field Education Level III Part 2 | J8: STB Political and/or Social Philosophy Elective | K8: FE-3024 Field Education Level III Part 4 | N8: 4000 level Elective 2 (if philosophy, probably could also count for STB elective)
H9: MA-5001 MA Foreign Language Proficiency (MA Thesis Option) | J9: MA-5500 MA Thesis Proposal (MA Thesis Option) | K9: MA 5999 MA Thesis Defense (MA Thesis Option)
J10: MA 5506 MA Capstone Exam (MA Exam Option)

Sheet D. Core Course Projections
A1: Course. Note: X indicates that a course is projected to be offered in a given semester. The schedule of courses listed on the following pages is subject to change. For specific offerings available, consult the DSPT Current Courses webpage. | B1: Units | C1: Cycle (yrs) | D1: MDiv (pre-) req. | E1: RSP req. | F1: STB req. | G1: Fall 2024 | H1: =_xlfn.LET( _xlpm.term, _xlfn.TEXTBEFORE(G1," "), _xlpm.yr, VALUE(_xlfn.TEXTAFTER(G1," ")), CHOOSE( _xlfn.XMATCH(_xlpm.term, {"Spring","Fall"}), "Fall "&_xlpm.yr, "Spring "&(_xlpm.yr+1) ) ) -> Spring 2025 | I1: =_xlfn.LET( _xlpm.term, _xlfn.TEXTBEFORE(H1," "), _xlpm.yr, VALUE(_xlfn.TEXTAFTER(H1," ")), CHOOSE( _xlfn.XMATCH(_xlpm.term, {"Spring","Fall"}), "Fall "&_xlpm.yr, "Spring "&(_xlpm.yr+1) ) ) -> Fall 2025 | J1: =_xlfn.LET( _xlpm.term, _xlfn.TEXTBEFORE(I1," "), _xlpm.yr, VALUE(_xlfn.TEXTAFTER(I1," ")), CHOOSE( _xlfn.XMATCH(_xlpm.term, {"Spring","Fall"}), "Fall "&_xlpm.yr, "Spring "&(_xlpm.yr+1) ) ) -> Spring 2026 | K1: =_xlfn.LET( _xlpm.term, _xlfn.TEXTBEFORE(J1," "), _xlpm.yr, VALUE(_xlfn.TEXTAFTER(J1," ")), CHOOSE( _xlfn.XMATCH(_xlpm.term, {"Spring","Fall"}), "Fall "&_xlpm.yr, "Spring "&(_xlpm.yr+1) ) ) -> Fall 2026 | L1: =_xlfn.LET( _xlpm.term, _xlfn.TEXTBEFORE(K1," "), _xlpm.yr, VALUE(_xlfn.TEXTAFTER(K1," ")), CHOOSE( _xlfn.XMATCH(_xlpm.term, {"Spring","Fall"}), "Fall "&_xlpm.yr, "Spring "&(_xlpm.yr+1) ) ) -> Spring 2027 | M1: =_xlfn.LET( _xlpm.term, _xlfn.TEXTBEFORE(L1," "), _xlpm.yr, VALUE(_xlfn.TEXTAFTER(L1," ")), CHOOSE( _xlfn.XMATCH(_xlpm.term, {"Spring","Fall"}), "Fall "&_xlpm.yr, "Spring "&(_xlpm.yr+1) ) ) -> Fall 2027 | N1: =_xlfn.LET( _xlpm.term, _xlfn.TEXTBEFORE(M1," "), _xlpm.yr, VALUE(_xlfn.TEXTAFTER(M1," ")), CHOOSE( _xlfn.XMATCH(_xlpm.term, {"Spring","Fall"}), "Fall "&_xlpm.yr, "Spring "&(_xlpm.yr+1) ) ) -> Spring 2028 | O1: =_xlfn.LET( _xlpm.term, _xlfn.TEXTBEFORE(N1," "), _xlpm.yr, VALUE(_xlfn.TEXTAFTER(N1," ")), CHOOSE( _xlfn.XMATCH(_xlpm.term, {"Spring","Fall"}), "Fall "&_xlpm.yr, "Spring "&(_xlpm.yr+1) ) ) -> Fall 2028 | ... AB1: =_xlfn.LET( _xlpm.term, _xlfn.TEXTBEFORE(AA1," "), _xlpm.yr, VALUE(_xlfn.TEXTAFTER(AA1," ")), CHOOSE( _xlfn.XMATCH(_xlpm.term, {"Spring","Fall"}), "Fall "&_xlpm.yr, "Spring "&(_xlpm.yr+1) ) ) -> Spring 2035
A2: Academic Practicum Courses
A3: MA-1101 Graduate Seminar Intro 1 | B3: 1.5 | C3: 1 | D3: (pre) | F3: ✔ | G3: X | I3: X | K3: X | M3: X | O3: X | Q3: X | S3: X | U3: X | W3: X | Y3: X | AA3: X
A4: MA-1102 Graduate Seminar Intro 2 | B4: 1.5 | C4: 1 | D4: (pre) | F4: ✔ | H4: X | J4: X | L4: X | N4: X | P4: X | R4: X | T4: X | V4: X | X4: X | Z4: X | AB4: X
A5: MA-4101 Graduate Seminar Capstone 1 | B5: 1.5 | C5: 1 | F5: ✔ | G5: X | I5: X | K5: X | M5: X | O5: X | Q5: X | S5: X | U5: X | W5: X | Y5: X | AA5: X
A6: MA-4102 Graduate Seminar Capstone 2 | B6: 1.5 | C6: 1 | F6: ✔ | H6: X | J6: X | L6: X | N6: X | P6: X | R6: X | T6: X | V6: X | X6: X | Z6: X | AB6: X
A7: Languages
A8: BS-1032 Latin I | B8: 3 | C8: 1 | E8: ✔ | F8: ✔ | K8: X | M8: X | O8: X | Q8: X | S8: X | U8: X | W8: X | Y8: X | AA8: X
A9: BS-1033 Latin II | B9: 3 | C9: 1 | E9: ✔ | F9: ✔ | L9: X | N9: X | P9: X | R9: X | T9: X | V9: X | X9: X | Z9: X | AB9: X
A10: Systematic Philosophy
A11: PH-1115 Aristotelian Logic | B11: 3 | C11: 1 | D11: (pre) | E11: ✔ | F11: ✔ | G11: X | I11: X | K11: X | M11: X | O11: X | Q11: X | S11: X | U11: X | W11: X | Y11: X | AA11: X
A12: PH-1056 Philosophy of Nature | B12: 3 | C12: 1 | D12: (pre) | E12: ✔ | F12: ✔ | G12: X | I12: X | K12: X | M12: X | O12: X | Q12: X | S12: X | U12: X | W12: X | Y12: X | AA12: X
A13: PH-1009 Philosophical Ethics | B13: 3 | C13: 1 | E13: ✔ | F13: ✔ | G13: X | I13: X | K13: X | M13: X | O13: X | Q13: X | S13: X | U13: X | W13: X | Y13: X | AA13: X
A14: PH-1065 Theory of Knowledge | B14: 3 | C14: 1 | E14: ✔ | F14: ✔ | H14: X | J14: X | L14: X | N14: X | P14: X | R14: X | T14: X | V14: X | X14: X | Z14: X | AB14: X
A15: PH-2040 Philosophical Anthropology | B15: 3 | C15: 1 | E15: ✔ | F15: ✔ | H15: X | J15: X | L15: X | N15: X | P15: X | R15: X | T15: X | V15: X | X15: X | Z15: X | AB15: X
A16: PH-2050 Metaphysics | B16: 3 | C16: 1 | E16: ✔ | F16: ✔ | H16: X | J16: X | L16: X | N16: X | P16: X | R16: X | T16: X | V16: X | X16: X | Z16: X | AB16: X
A17: History of Philosophy
A18: PHHS-1050 History of Philosophy: Ancient | B18: 3 | C18: 1 | D18: (pre) | E18: ✔ | F18: ✔ | G18: X | I18: X | K18: X | M18: X | O18: X | Q18: X | S18: X | U18: X | W18: X | Y18: X | AA18: X
A19: PHHS-1051 History of Philosophy: Medieval | B19: 3 | C19: 1 | D19: (pre) | E19: ✔ | F19: ✔ | H19: X | J19: X | L19: X | N19: X | P19: X | R19: X | T19: X | V19: X | X19: X | Z19: X | AB19: X
A20: PHHS-2000 Modern Philosophy | B20: 3 | C20: 1 | D20: (pre) | E20: ✔ | F20: ✔ | G20: X | I20: X | K20: X | M20: X | O20: X | Q20: X | S20: X | U20: X | W20: X | Y20: X | AA20: X
A21: PHHS-2001 Contemporary Philosophy | B21: 3 | C21: 1 | D21: (pre) | E21: ✔ | F21: ✔ | H21: X | J21: X | L21: X | N21: X | P21: X | R21: X | T21: X | V21: X | X21: X | Z21: X | AB21: X
A22: Sacred Scripture
A23: BS-1560 Intro to Sacred Scripture | B23: 3 | C23: 1 | D23: ✔ | E23: ✔ | F23: ✔ | G23: X | I23: X | K23: X | M23: X | O23: X | Q23: X | S23: X | U23: X | W23: X | Y23: X | AA23: X
A24: OT-2098 Pentateuch & Histories | B24: 3 | C24: 1.5 | D24: 5 of 6 | E24: ✔ | F24: ✔ | J24: X | M24: X | P24: X | S24: X | V24: X | Y24: X | AB24: X
A25: OT-2149 Prophets | B25: 3 | C25: 1.5 | D25: 5 of 6 | E25: ✔ | F25: ✔ | I25: X | L25: X | O25: X | R25: X | U25: X | X25: X | AA25: X
A26: OT-2600 Wisdom Lit | B26: 3 | C26: 1.5 | D26: 5 of 6 | E26: ✔ | F26: ✔ | H26: X | K26: X | N26: X | Q26: X | T26: X | W26: X | Z26: X
A27: NTBS-2550 The Gospels | B27: 3 | C27: 1.5 | D27: 5 of 6 | E27: ✔ | F27: ✔ | H27: X | K27: X | N27: X | Q27: X | T27: X | W27: X | Z27: X
A28: NT-2526 Pauline Literature | B28: 3 | C28: 1.5 | D28: 5 of 6 | E28: ✔ | F28: ✔ | H28: X | L28: X | O28: X | R28: X | U28: X | X28: X | AA28: X
A29: NT-2531 Acts, Catholic Epistles, & Revelation | B29: 3 | C29: 1.5 | D29: 5 of 6 | E29: ✔ | F29: ✔ | J29: X | M29: X | P29: X | S29: X | V29: X | Y29: X | AB29: X
A30: Church History
A31: HS-1196 Church History I | B31: 3 | C31: 1 | D31: ✔ | E31: ✔ | F31: ✔ | G31: X | I31: X | K31: X | M31: X | O31: X | Q31: X | S31: X | U31: X | W31: X | Y31: X | AA31: X
A32: HS-2196 Church History II | B32: 3 | C32: 1 | D32: ✔ | E32: ✔ | F32: ✔ | H32: X | J32: X | L32: X | N32: X | P32: X | R32: X | T32: X | V32: X | X32: X | Z32: X | AB32: X
A33: Dogmatic / Systematic
A34: STHS-1300 Intro to St. Thomas’s Writings | B34: 1.5 | C34: 1 | F34: ✔ | G34: X | I34: X | K34: X | M34: X | O34: X | Q34: X | S34: X | U34: X | W34: X | Y34: X | AA34: X
A35: ST-1091 Theology: Nature & Method | B35: 3 | C35: 1 | D35: ✔ | E35: ✔ | F35: ✔ | G35: X | I35: X | K35: X | M35: X | O35: X | Q35: X | S35: X | U35: X | W35: X | Y35: X | AA35: X
A36: STPH-3095 One Creator God | B36: 3 | C36: 1 | E36: ✔ | F36: ✔ | G36: X | I36: X | K36: X | M36: X | O36: X | Q36: X | S36: X | U36: X | W36: X | Y36: X | AA36: X
A37: ST-2300 Trinity | B37: 3 | C37: 2 | D37: ✔ | E37: ✔ | F37: ✔ | H37: X | L37: X | P37: X | T37: X | X37: X | AB37: X
A38: STHS-2500 Patristic Theology: Christology and the Early Church Councils | B38: 3 | C38: 2 | E38: ✔ | F38: ✔ | I38: X | M38: X | Q38: X | U38: X | Y38: X
A39: STHS-2650 Systematic Christology | B39: 3 | C39: 2 | D39: ✔ | E39: ✔ | F39: ✔ | J39: X | N39: X | R39: X | V39: X | Z39: X
A40: STHS-2800 Intro to Eschatology | B40: 1.5 | C40: 2 | F40: ✔ | I40: X | M40: X | Q40: X | U40: X | Y40: X
A41: STHS-2700 Intro to Mariology | B41: 1.5 | C41: 2 | F41: ✔ | I41: X | M41: X | Q41: X | U41: X | Y41: X
A42: ST-3128 Theological Anthropology | B42: 3 | C42: 2 | D42: ✔ | E42: ✔ | F42: ✔ | J42: X | N42: X | R42: X | V42: X | Z42: X
A43: ST-3067 Theology of Sacraments | B43: 3 | C43: 1 | D43: ✔ | E43: ✔ | F43: ✔ | G43: X | I43: X | K43: X | M43: X | O43: X | Q43: X | S43: X | U43: X | W43: X | Y43: X | AA43: X
A44: ST-3071 Sacraments: Eucharist & Orders | B44: 3 | C44: 2 | E44: ✔ | F44: ✔ | H44: X | L44: X | P44: X | T44: X | X44: X | AB44: X
A45: STSP-3036 Ecclesiology: Foundations | B45: 3 | C45: 2 | D45: ✔ | E45: ✔ | F45: ✔ | G45: X | K45: X | O45: X | S45: X | W45: X | AA45: X
A46: ST-1401 Intro to Ecumenism, World Religions | B46: 1.5 | C46: 2 | F46: ✔ | J46: X | N46: X | R46: X | V46: X | Z46: X
A47: Moral Theology
A48: ST-2161 Introduction to Spiritual Theology | B48: 1.5 | C48: 2 | F48: ✔ | I48: X | N48: X | R48: X | V48: X | Z48: X
A49: CE-2045 Fundamental Moral Theology | B49: 3 | C49: 1 | D49: ✔ | E49: ✔ | F49: ✔ | H49: X | J49: X | L49: X | N49: X | P49: X | R49: X | T49: X | V49: X | X49: X | Z49: X | AB49: X
A50: CE-2003 Roman Catholic Sexual Ethics | B50: 3 | C50: 2 | D50: ✔ | E50: ✔ | F50: ✔ | H50: X | J50: X | L50: X | P50: X | T50: X | X50: X | AB50: X
A51: CE-3050 Catholic Social Teaching | B51: 3 | C51: 2 | D51: ✔ | E51: ✔ | F51: ✔ | G51: X | I51: X | K51: X | L51: X | M51: X | Q51: X | U51: X | Y51: X
A52: ST-2210 Theological Virtues | B52: 3 | C52: 2 | F52: ✔ | G52: X | K52: X | O52: X | S52: X | W52: X | AA52: X
A53: STCE-2211 Cardinal Virtues and Virtue Ethics | B53: 3 | C53: 2 | F53: ✔ | I53: X | M53: X | Q53: X | U53: X | Y53: X
A54: Pastoral Theology
A55: HM-1073 Foundations of Preaching | B55: 3 | C55: 1 | D55: ✔ | E55: ✔ | F55: ✔ | G55: X | I55: X | K55: X | M55: X | O55: X | Q55: X | S55: X | U55: X | W55: X | Y55: X | AA55: X
A56: HM-2230 Liturgical Preaching | B56: 3 | C56: 1 | E56: ✔ | F56: ✔ | H56: X | L56: X | N56: X | P56: X | R56: X | T56: X | V56: X | X56: X | Z56: X | AB56: X
A57: PS-1016 Pastoral Counseling | B57: 3 | C57: 1 | D57: ✔ | E57: ✔ | F57: ✔ | H57: X | J57: X | L57: X | N57: X | P57: X | R57: X | T57: X | V57: X | X57: X | Z57: X | AB57: X
A58: LSRA-1500 Foundations of Catholic Liturgy | B58: 3 | C58: 1 | D58: ✔ | E58: ✔ | F58: ✔ | H58: X | J58: X | L58: X | N58: X | P58: X | R58: X | T58: X | V58: X | X58: X | Z58: X | AB58: X
A59: CEFT-2000 Confessional Ministry | B59: 1.5 | C59: 1 | D59: ✔ | E59: ✔ | F59: ✔ | G59: X | I59: X | K59: X | M59: X | O59: X | Q59: X | S59: X | U59: X | W59: X | Y59: X | AA59: X
A60: LSFT-2404 Celebration of the Sacraments | B60: 1.5 | C60: 1 | D60: ✔ | E60: ✔ | F60: ✔ | H60: X | J60: X | L60: X | N60: X | P60: X | R60: X | T60: X | V60: X | X60: X | Z60: X | AB60: X
A61: FT-1400 Introduction to Canon Law | B61: 1.5 | C61: 2 | D61: ✔ | E61: ✔ | F61: ✔ | K61: X | O61: X | S61: X | W61: X | AA61: X
A62: FT-2333 Canon Law of the Sacraments | B62: 1.5 | C62: 2 | D62: ✔ | E62: ✔ | F62: ✔ | H62: X | L62: X | P62: X | T62: X | X62: X | AB62: X
A63: FT-2325 Canon Law of Marriage | B63: 1.5 | C63: 2 | E63: ✔ | F63: ✔ | H63: X | J63: X | L63: X | P63: X | T63: X | X63: X | AB63: X
A64: Field Education
A65: FE-1021 Field Education Level I, Part 1 | B65: 0 | C65: 1 | D65: ✔ | E65: ✔ | F65: ✔ | G65: X | I65: X | K65: X | M65: X | O65: X | Q65: X | S65: X | U65: X | W65: X | Y65: X | AA65: X
A66: FE-1022 Field Education Level I, Part 2 | B66: 1.5 | C66: 1 | D66: ✔ | E66: ✔ | F66: ✔ | H66: X | J66: X | L66: X | N66: X | P66: X | R66: X | T66: X | V66: X | X66: X | Z66: X | AB66: X
A67: FE-2021 Pastoral Ministry Internship Part 1 | B67: 1.5 | C67: 1 | D67: ✔ | E67: ✔ | F67: ✔ | G67: X | I67: X | K67: X | M67: X | O67: X | Q67: X | S67: X | U67: X | W67: X | Y67: X | AA67: X
A68: FE-2022 Pastoral Ministry Internship Part 2 | B68: 1.5 | C68: 1 | D68: ✔ | E68: ✔ | F68: ✔ | H68: X | J68: X | L68: X | N68: X | P68: X | R68: X | T68: X | V68: X | X68: X | Z68: X | AB68: X
A69: FE-3021 Field Education Level III Part 1 | B69: 0 | C69: 1 | D69: ✔ | E69: ✔ | F69: ✔ | G69: X | I69: X | K69: X | M69: X | O69: X | Q69: X | S69: X | U69: X | W69: X | Y69: X | AA69: X
A70: FE-3022 Field Education Level III Part 2 | B70: 0 | C70: 1 | D70: ✔ | E70: ✔ | F70: ✔ | H70: X | J70: X | L70: X | N70: X | P70: X | R70: X | T70: X | V70: X | X70: X | Z70: X | AB70: X
A71: FE-3023 Field Education Level III Part 3 | B71: 0 | C71: 1 | D71: ✔ | E71: ✔ | F71: ✔ | G71: X | I71: X | K71: X | M71: X | O71: X | Q71: X | S71: X | U71: X | W71: X | Y71: X | AA71: X
A72: FE-3024 Field Education Level III Part 4 | B72: 0 | C72: 1 | D72: ✔ | E72: ✔ | F72: ✔ | H72: X | J72: X | L72: X | N72: X | P72: X | R72: X | T72: X | V72: X | X72: X | Z72: X | AB72: X
A73: Semester End Dates (Approximate) | G73: 45646

Sheet E. Legend
A1: Term | B1: Notes
A2: Biennium | B2: The first two years of an STB are called the Biennium, consisting of mostly philosophy and introductory theology courses. For those only doing the MDiv, this is a time for prerequisites, prepatory coursework, and gateway theology intro courses.
A3: Triennium | B3: In the STB, after the Biennium comes the Triennium, consisting of intermediate and upper division theology courses
A4: Scheduling Cycle (yrs) | B4: Some courses are offered every year. Some are cycled, offered every 2 years or every 1.5 years.
A5: MDiv req. or pre-req. | B5: An 'X' in this column indicates this course is a required course in the MDiv. (pre) indicates this is a pre-requisite for the MDiv
A6: RSP req. | B6: An 'X' in this column indicates this course is required in the Ratio Studiorum Particularis of the Western Dominican Province for brothers in clerical formation
A7: STB req. | B7: An 'X' in this column indicates this course is a required course in the Baccalaureate of (Sacred) Theology (STB) offered through the St. Albert's Institue, through affiliation with the Angelicum.
A8: Residency Year | B8: Dominican Student brothers usually have a pastoral year after the biennium, in which they are assigned to a ministry site. During this time, they should register for FE-2021 Pastoral Ministry Internship Part 1 & 2. They should also register for 9 units of MDV 3050 Dominican Residency Program in both Fall and Spring semester, so as to maintain full-time student status. (The latter does not appear in tab B.) If you will not have a residency year, you can rename the header for these columns, and fill them out as other academic years.
A9: Dominican Year Abroad | B9: Dominican Student brothers usually spend one year of studies in another province. They will need to look at the course catalog of the school they will attend to find what courses may be equivalent to required DSPT courses. They can communicate about their course plans with DSPT's Academic Dean before leaving to get assurances that the courses they plan to take can be transferred to their DSPT/SAI program.
A10: Completed Units | B10: The Completed Units calcualtes the number of units completed for each requirement before the current date. It uses an approximate end date for each semester to estimate which semesters are complete.
A11: Course Waiver (Granted Petition) | B11: Enter "yes" if you were granted a petition for a course waiver for this requirement (This is sometimes called advanced standing). If you enter "yes", the corresponding cell in the Total Planned and Completed Units column will turn green to show that this requirement is fulfilled. You would still need to complete the unit requirement with another course. See the instructions on the Petition for Course Waiver.
