Workbook

Sheet A. Instructions
A1: Description | B1: This spreadsheet is meant to be a tool for students, especially students pursuing the MDiv or STB, to use to make multi-year course plans.
A2: Step 1 | B2: In tab B, in the yellow box, enter the first semester of studies. The format is important. It should be either "Fall" or "Spring", followed by a space, followed by a four digit year. For example "Fall 2024". Row 2 in tab B should now have the correct semesters for an eight year clerical formation
A3: Step 2 | B3: The course projections in tab D should match the current multi-year projections from the DSPT website. Note that these are subject to change. The cells in tab B will turn blue when a course is projected to be offered in the corresponding semester. If a row in tab B does not show any blue squares but the course does show blue squares on tab D, make sure the name of the course matches exactly the name of the course in tab D.
A4: Step 3 | B4: In tab B, for each course, put an 'x' (or any other mark) in the box corresponding to the semester it has been taken or planned to be taken. In row 3 of tab B, it will show the total units taken in a given semester. In column V, it will show how many units have already been completed for the requirement, and column W will show units to be completed based on whether you put an x in that row. When both show 0, it means you need to add an x somewhere in that row, to indicate when you plan to take this course. This is useful for keeping track of which requirements you have or will have met. The table is pre-filled with example values.
B5: In Tab C, a course plan for each semester will be automatically generated based on where you put unit values in tab B

Sheet B. Student Course Plan
A1: Course | B1: Units | C1: Scheduling Cycle (yrs) | D1: MDiv req. or pre-req. | E1: Comp. Curric. | F1: RSP req. | G1: STB req. | H1: Biennium I, Fall | I1: Biennium I, Spring | J1: Biennium II, Fall | K1: Biennium II, Spring | L1: Residency Year, Fall | M1: Residency Year, Spring | N1: Theology I, Fall | O1: Theology I, Spring | P1: Theology II, Fall | Q1: Theology II, Spring | R1: Theology III, Fall (Abroad?) | S1: Theology III, Spring (Abroad?) | T1: Theology IV, Fall | U1: Theology IV, Spring | V1: Course Waiver (Granted Petition) | W1: Completed Units | X1: Planned or In Progress Units | Y1: Total Planned and Completed Units
A2: Semester (See directions in Tab A for set up) | H2: Fall 2025 | I2: =_xlfn.LET( _xlpm.term, _xlfn.TEXTBEFORE(H2," "), _xlpm.yr, VALUE(_xlfn.TEXTAFTER(H2," ")), CHOOSE( _xlfn.XMATCH(_xlpm.term, {"Spring","Fall"}), "Fall "&_xlpm.yr, "Spring "&(_xlpm.yr+1) ) ) -> Spring 2026 | J2: =_xlfn.LET( _xlpm.term, _xlfn.TEXTBEFORE(I2," "), _xlpm.yr, VALUE(_xlfn.TEXTAFTER(I2," ")), CHOOSE( _xlfn.XMATCH(_xlpm.term, {"Spring","Fall"}), "Fall "&_xlpm.yr, "Spring "&(_xlpm.yr+1) ) ) -> Fall 2026 | K2: =_xlfn.LET( _xlpm.term, _xlfn.TEXTBEFORE(J2," "), _xlpm.yr, VALUE(_xlfn.TEXTAFTER(J2," ")), CHOOSE( _xlfn.XMATCH(_xlpm.term, {"Spring","Fall"}), "Fall "&_xlpm.yr, "Spring "&(_xlpm.yr+1) ) ) -> Spring 2027 | L2: =_xlfn.LET( _xlpm.term, _xlfn.TEXTBEFORE(K2," "), _xlpm.yr, VALUE(_xlfn.TEXTAFTER(K2," ")), CHOOSE( _xlfn.XMATCH(_xlpm.term, {"Spring","Fall"}), "Fall "&_xlpm.yr, "Spring "&(_xlpm.yr+1) ) ) -> Fall 2027 | M2: =_xlfn.LET( _xlpm.term, _xlfn.TEXTBEFORE(L2," "), _xlpm.yr, VALUE(_xlfn.TEXTAFTER(L2," ")), CHOOSE( _xlfn.XMATCH(_xlpm.term, {"Spring","Fall"}), "Fall "&_xlpm.yr, "Spring "&(_xlpm.yr+1) ) ) -> Spring 2028 | N2: =_xlfn.LET( _xlpm.term, _xlfn.TEXTBEFORE(M2," "), _xlpm.yr, VALUE(_xlfn.TEXTAFTER(M2," ")), CHOOSE( _xlfn.XMATCH(_xlpm.term, {"Spring","Fall"}), "Fall "&_xlpm.yr, "Spring "&(_xlpm.yr+1) ) ) -> Fall 2028 | O2: =_xlfn.LET( _xlpm.term, _xlfn.TEXTBEFORE(N2," "), _xlpm.yr, VALUE(_xlfn.TEXTAFTER(N2," ")), CHOOSE( _xlfn.XMATCH(_xlpm.term, {"Spring","Fall"}), "Fall "&_xlpm.yr, "Spring "&(_xlpm.yr+1) ) ) -> Spring 2029 | P2: =_xlfn.LET( _xlpm.term, _xlfn.TEXTBEFORE(O2," "), _xlpm.yr, VALUE(_xlfn.TEXTAFTER(O2," ")), CHOOSE( _xlfn.XMATCH(_xlpm.term, {"Spring","Fall"}), "Fall "&_xlpm.yr, "Spring "&(_xlpm.yr+1) ) ) -> Fall 2029 | ... U2: =_xlfn.LET( _xlpm.term, _xlfn.TEXTBEFORE(T2," "), _xlpm.yr, VALUE(_xlfn.TEXTAFTER(T2," ")), CHOOSE( _xlfn.XMATCH(_xlpm.term, {"Spring","Fall"}), "Fall "&_xlpm.yr, "Spring "&(_xlpm.yr+1) ) ) -> Spring 2032
A3: Approximate Semester End Date | H3: =DATE( VALUE(RIGHT(H2,4)), IF(LEFT(H2,6)="Spring",5, IF(LEFT(H2,4)="Fall",12,"")), 20 ) -> 46011 | I3: =DATE( VALUE(RIGHT(I2,4)), IF(LEFT(I2,6)="Spring",5, IF(LEFT(I2,4)="Fall",12,"")), 20 ) -> 46162 | J3: =DATE( VALUE(RIGHT(J2,4)), IF(LEFT(J2,6)="Spring",5, IF(LEFT(J2,4)="Fall",12,"")), 20 ) -> 46376 | K3: =DATE( VALUE(RIGHT(K2,4)), IF(LEFT(K2,6)="Spring",5, IF(LEFT(K2,4)="Fall",12,"")), 20 ) -> 46527 | L3: =DATE( VALUE(RIGHT(L2,4)), IF(LEFT(L2,6)="Spring",5, IF(LEFT(L2,4)="Fall",12,"")), 20 ) -> 46741 | M3: =DATE( VALUE(RIGHT(M2,4)), IF(LEFT(M2,6)="Spring",5, IF(LEFT(M2,4)="Fall",12,"")), 20 ) -> 46893 | N3: =DATE( VALUE(RIGHT(N2,4)), IF(LEFT(N2,6)="Spring",5, IF(LEFT(N2,4)="Fall",12,"")), 20 ) -> 47107 | O3: =DATE( VALUE(RIGHT(O2,4)), IF(LEFT(O2,6)="Spring",5, IF(LEFT(O2,4)="Fall",12,"")), 20 ) -> 47258 | ... U3: =DATE( VALUE(RIGHT(U2,4)), IF(LEFT(U2,6)="Spring",5, IF(LEFT(U2,4)="Fall",12,"")), 20 ) -> 48354
A4: Total Units per Semester | H4: {=SUMPRODUCT((H6:H87<>"")*$B6:$B87)} -> 13.5 | I4: {=SUMPRODUCT((I6:I87<>"")*$B6:$B87)} -> 13.5 | J4: {=SUMPRODUCT((J6:J87<>"")*$B6:$B87)} -> 13.5 | K4: {=SUMPRODUCT((K6:K87<>"")*$B6:$B87)} -> 13.5 | L4: {=SUMPRODUCT((L6:L87<>"")*$B6:$B87)} -> 1.5 | M4: {=SUMPRODUCT((M6:M87<>"")*$B6:$B87)} -> 1.5 | N4: {=SUMPRODUCT((N6:N87<>"")*$B6:$B87)} -> 13.5 | O4: {=SUMPRODUCT((O6:O87<>"")*$B6:$B87)} -> 12 | ... U4: {=SUMPRODUCT((U6:U87<>"")*$B6:$B87)} -> 13.5 | W4: {=SUMPRODUCT((H$3:U$3<TODAY())*H4:U4)} -> 27 | X4: {=SUMPRODUCT((H$3:U$3>=TODAY())*H4:U4)} -> 127.5 | Y4: =Table1[[#This Row],[Completed Units]]+Table1[[#This Row],[Planned or In Progress Units]] -> 154.5
A5: Academic Practicum Courses
A6: MA-1101 Graduate Seminar Intro 1 | B6: 1.5 | C6: 1 | D6: (pre) | G6: X | H6: x | W6: =Table1[[#This Row],[Units]]*COUNTIFS($H$3:$U$3,"<"&TODAY(),$H6:$U6,"<>") -> 1.5 | X6: =Table1[[#This Row],[Units]]*COUNTIFS($H$3:$U$3,">="&TODAY(),$H6:$U6,"<>") -> 0 | Y6: =Table1[[#This Row],[Completed Units]]+Table1[[#This Row],[Planned or In Progress Units]] -> 1.5
A7: MA-1102 Graduate Seminar Intro 2 | B7: 1.5 | C7: 1 | D7: (pre) | G7: X | I7: x | W7: =Table1[[#This Row],[Units]]*COUNTIFS($H$3:$U$3,"<"&TODAY(),$H7:$U7,"<>") -> 1.5 | X7: =Table1[[#This Row],[Units]]*COUNTIFS($H$3:$U$3,">="&TODAY(),$H7:$U7,"<>") -> 0 | Y7: =Table1[[#This Row],[Completed Units]]+Table1[[#This Row],[Planned or In Progress Units]] -> 1.5
A8: MA-4101 Graduate Seminar Capstone 1 | B8: 1.5 | C8: 1 | G8: X | P8: x | W8: =Table1[[#This Row],[Units]]*COUNTIFS($H$3:$U$3,"<"&TODAY(),$H8:$U8,"<>") -> 0 | X8: =Table1[[#This Row],[Units]]*COUNTIFS($H$3:$U$3,">="&TODAY(),$H8:$U8,"<>") -> 1.5 | Y8: =Table1[[#This Row],[Completed Units]]+Table1[[#This Row],[Planned or In Progress Units]] -> 1.5
A9: MA-4102 Graduate Seminar Capstone 2 | B9: 1.5 | C9: 1 | G9: X | Q9: x | W9: =Table1[[#This Row],[Units]]*COUNTIFS($H$3:$U$3,"<"&TODAY(),$H9:$U9,"<>") -> 0 | X9: =Table1[[#This Row],[Units]]*COUNTIFS($H$3:$U$3,">="&TODAY(),$H9:$U9,"<>") -> 1.5 | Y9: =Table1[[#This Row],[Completed Units]]+Table1[[#This Row],[Planned or In Progress Units]] -> 1.5
A10: Languages
A11: BS-1032 Latin I | B11: 3 | C11: 1 | F11: X | G11: X | J11: x | W11: =Table1[[#This Row],[Units]]*COUNTIFS($H$3:$U$3,"<"&TODAY(),$H11:$U11,"<>") -> 0 | X11: =Table1[[#This Row],[Units]]*COUNTIFS($H$3:$U$3,">="&TODAY(),$H11:$U11,"<>") -> 3 | Y11: =Table1[[#This Row],[Completed Units]]+Table1[[#This Row],[Planned or In Progress Units]] -> 3
A12: BS-1033 Latin II | B12: 3 | C12: 1 | F12: X | G12: X | K12: x | W12: =Table1[[#This Row],[Units]]*COUNTIFS($H$3:$U$3,"<"&TODAY(),$H12:$U12,"<>") -> 0 | X12: =Table1[[#This Row],[Units]]*COUNTIFS($H$3:$U$3,">="&TODAY(),$H12:$U12,"<>") -> 3 | Y12: =Table1[[#This Row],[Completed Units]]+Table1[[#This Row],[Planned or In Progress Units]] -> 3
A13: Systematic Philosophy
A14: Intro to Philosophy | B14: 1.5 | C14: N/A | G14: X | V14: yes | W14: =Table1[[#This Row],[Units]]*COUNTIFS($H$3:$U$3,"<"&TODAY(),$H14:$U14,"<>") -> 0 | X14: =Table1[[#This Row],[Units]]*COUNTIFS($H$3:$U$3,">="&TODAY(),$H14:$U14,"<>") -> 0 | Y14: =Table1[[#This Row],[Completed Units]]+Table1[[#This Row],[Planned or In Progress Units]] -> 0
A15: PH-1115 Aristotelian Logic | B15: 3 | C15: 1 | D15: (pre) | F15: X | G15: X | H15: x | W15: =Table1[[#This Row],[Units]]*COUNTIFS($H$3:$U$3,"<"&TODAY(),$H15:$U15,"<>") -> 3 | X15: =Table1[[#This Row],[Units]]*COUNTIFS($H$3:$U$3,">="&TODAY(),$H15:$U15,"<>") -> 0 | Y15: =Table1[[#This Row],[Completed Units]]+Table1[[#This Row],[Planned or In Progress Units]] -> 3
A16: PH-1056 Philosophy of Nature | B16: 3 | C16: 1 | D16: (pre) | F16: X | G16: X | H16: x | W16: =Table1[[#This Row],[Units]]*COUNTIFS($H$3:$U$3,"<"&TODAY(),$H16:$U16,"<>") -> 3 | X16: =Table1[[#This Row],[Units]]*COUNTIFS($H$3:$U$3,">="&TODAY(),$H16:$U16,"<>") -> 0 | Y16: =Table1[[#This Row],[Completed Units]]+Table1[[#This Row],[Planned or In Progress Units]] -> 3
A17: PH-1009 Philosophical Ethics | B17: 3 | C17: 1 | F17: X | G17: X | H17: x | W17: =Table1[[#This Row],[Units]]*COUNTIFS($H$3:$U$3,"<"&TODAY(),$H17:$U17,"<>") -> 3 | X17: =Table1[[#This Row],[Units]]*COUNTIFS($H$3:$U$3,">="&TODAY(),$H17:$U17,"<>") -> 0 | Y17: =Table1[[#This Row],[Completed Units]]+Table1[[#This Row],[Planned or In Progress Units]] -> 3
A18: PH-1065 Theory of Knowledge | B18: 3 | C18: 1 | F18: X | G18: X | I18: x | W18: =Table1[[#This Row],[Units]]*COUNTIFS($H$3:$U$3,"<"&TODAY(),$H18:$U18,"<>") -> 3 | X18: =Table1[[#This Row],[Units]]*COUNTIFS($H$3:$U$3,">="&TODAY(),$H18:$U18,"<>") -> 0 | Y18: =Table1[[#This Row],[Completed Units]]+Table1[[#This Row],[Planned or In Progress Units]] -> 3
A19: PH-2040 Philosophical Anthropology | B19: 3 | C19: 1 | F19: X | G19: X | I19: x | W19: =Table1[[#This Row],[Units]]*COUNTIFS($H$3:$U$3,"<"&TODAY(),$H19:$U19,"<>") -> 3 | X19: =Table1[[#This Row],[Units]]*COUNTIFS($H$3:$U$3,">="&TODAY(),$H19:$U19,"<>") -> 0 | Y19: =Table1[[#This Row],[Completed Units]]+Table1[[#This Row],[Planned or In Progress Units]] -> 3
A20: PH-2050 Metaphysics | B20: 3 | C20: 1 | F20: X | G20: X | I20: x | W20: =Table1[[#This Row],[Units]]*COUNTIFS($H$3:$U$3,"<"&TODAY(),$H20:$U20,"<>") -> 3 | X20: =Table1[[#This Row],[Units]]*COUNTIFS($H$3:$U$3,">="&TODAY(),$H20:$U20,"<>") -> 0 | Y20: =Table1[[#This Row],[Completed Units]]+Table1[[#This Row],[Planned or In Progress Units]] -> 3
A21: History of Philosophy
A22: PHHS-1050 History of Philosophy: Ancient | B22: 3 | C22: 1 | D22: (pre) | F22: X | G22: X | H22: x | W22: =Table1[[#This Row],[Units]]*COUNTIFS($H$3:$U$3,"<"&TODAY(),$H22:$U22,"<>") -> 3 | X22: =Table1[[#This Row],[Units]]*COUNTIFS($H$3:$U$3,">="&TODAY(),$H22:$U22,"<>") -> 0 | Y22: =Table1[[#This Row],[Completed Units]]+Table1[[#This Row],[Planned or In Progress Units]] -> 3
A23: PHHS-1051 History of Philosophy: Medieval | B23: 3 | C23: 1 | D23: (pre) | F23: X | G23: X | I23: x | W23: =Table1[[#This Row],[Units]]*COUNTIFS($H$3:$U$3,"<"&TODAY(),$H23:$U23,"<>") -> 3 | X23: =Table1[[#This Row],[Units]]*COUNTIFS($H$3:$U$3,">="&TODAY(),$H23:$U23,"<>") -> 0 | Y23: =Table1[[#This Row],[Completed Units]]+Table1[[#This Row],[Planned or In Progress Units]] -> 3
A24: PHHS-2000 Modern Philosophy | B24: 3 | C24: 1 | D24: (pre) | F24: X | G24: X | J24: x | W24: =Table1[[#This Row],[Units]]*COUNTIFS($H$3:$U$3,"<"&TODAY(),$H24:$U24,"<>") -> 0 | X24: =Table1[[#This Row],[Units]]*COUNTIFS($H$3:$U$3,">="&TODAY(),$H24:$U24,"<>") -> 3 | Y24: =Table1[[#This Row],[Completed Units]]+Table1[[#This Row],[Planned or In Progress Units]] -> 3
A25: PHHS-2001 Contemporary Philosophy | B25: 3 | C25: 1 | D25: (pre) | F25: X | G25: X | K25: x | W25: =Table1[[#This Row],[Units]]*COUNTIFS($H$3:$U$3,"<"&TODAY(),$H25:$U25,"<>") -> 0 | X25: =Table1[[#This Row],[Units]]*COUNTIFS($H$3:$U$3,">="&TODAY(),$H25:$U25,"<>") -> 3 | Y25: =Table1[[#This Row],[Completed Units]]+Table1[[#This Row],[Planned or In Progress Units]] -> 3
A26: Sacred Scripture
A27: BS-1560 Intro to Sacred Scripture | B27: 3 | C27: 1 | D27: X | F27: X | G27: X | J27: x | W27: =Table1[[#This Row],[Units]]*COUNTIFS($H$3:$U$3,"<"&TODAY(),$H27:$U27,"<>") -> 0 | X27: =Table1[[#This Row],[Units]]*COUNTIFS($H$3:$U$3,">="&TODAY(),$H27:$U27,"<>") -> 3 | Y27: =Table1[[#This Row],[Completed Units]]+Table1[[#This Row],[Planned or In Progress Units]] -> 3
A28: OT-2098 Pentateuch & Histories | B28: 3 | C28: 1.5 | D28: 5 of 6 | E28: Last of 6 | F28: X | G28: X | O28: x | W28: =Table1[[#This Row],[Units]]*COUNTIFS($H$3:$U$3,"<"&TODAY(),$H28:$U28,"<>") -> 0 | X28: =Table1[[#This Row],[Units]]*COUNTIFS($H$3:$U$3,">="&TODAY(),$H28:$U28,"<>") -> 3 | Y28: =Table1[[#This Row],[Completed Units]]+Table1[[#This Row],[Planned or In Progress Units]] -> 3
A29: OT-2149 Prophets | B29: 3 | C29: 1.5 | D29: 5 of 6 | E29: Last of 6 | F29: X | G29: X | Q29: x | W29: =Table1[[#This Row],[Units]]*COUNTIFS($H$3:$U$3,"<"&TODAY(),$H29:$U29,"<>") -> 0 | X29: =Table1[[#This Row],[Units]]*COUNTIFS($H$3:$U$3,">="&TODAY(),$H29:$U29,"<>") -> 3 | Y29: =Table1[[#This Row],[Completed Units]]+Table1[[#This Row],[Planned or In Progress Units]] -> 3
A30: OT-2600 Wisdom Lit | B30: 3 | C30: 1.5 | D30: 5 of 6 | E30: Last of 6 | F30: X | G30: X | S30: x | W30: =Table1[[#This Row],[Units]]*COUNTIFS($H$3:$U$3,"<"&TODAY(),$H30:$U30,"<>") -> 0 | X30: =Table1[[#This Row],[Units]]*COUNTIFS($H$3:$U$3,">="&TODAY(),$H30:$U30,"<>") -> 3 | Y30: =Table1[[#This Row],[Completed Units]]+Table1[[#This Row],[Planned or In Progress Units]] -> 3
A31: NTBS-2550 The Gospels | B31: 3 | C31: 1.5 | D31: 5 of 6 | E31: Last of 6 | F31: X | G31: X | S31: x | W31: =Table1[[#This Row],[Units]]*COUNTIFS($H$3:$U$3,"<"&TODAY(),$H31:$U31,"<>") -> 0 | X31: =Table1[[#This Row],[Units]]*COUNTIFS($H$3:$U$3,">="&TODAY(),$H31:$U31,"<>") -> 3 | Y31: =Table1[[#This Row],[Completed Units]]+Table1[[#This Row],[Planned or In Progress Units]] -> 3
A32: NT-2526 Pauline Literature | B32: 3 | C32: 1.5 | D32: 5 of 6 | E32: Last of 6 | F32: X | G32: X | N32: x | W32: =Table1[[#This Row],[Units]]*COUNTIFS($H$3:$U$3,"<"&TODAY(),$H32:$U32,"<>") -> 0 | X32: =Table1[[#This Row],[Units]]*COUNTIFS($H$3:$U$3,">="&TODAY(),$H32:$U32,"<>") -> 3 | Y32: =Table1[[#This Row],[Completed Units]]+Table1[[#This Row],[Planned or In Progress Units]] -> 3
A33: NT-2531 Acts, Catholic Epistles, & Revelation | B33: 3 | C33: 1.5 | D33: 5 of 6 | E33: Last of 6 | F33: X | G33: X | R33: x | W33: =Table1[[#This Row],[Units]]*COUNTIFS($H$3:$U$3,"<"&TODAY(),$H33:$U33,"<>") -> 0 | X33: =Table1[[#This Row],[Units]]*COUNTIFS($H$3:$U$3,">="&TODAY(),$H33:$U33,"<>") -> 3 | Y33: =Table1[[#This Row],[Completed Units]]+Table1[[#This Row],[Planned or In Progress Units]] -> 3
A34: Church History
A35: HS-1196 Church History I | B35: 3 | C35: 1 | D35: X | F35: X | G35: X | T35: X | W35: =Table1[[#This Row],[Units]]*COUNTIFS($H$3:$U$3,"<"&TODAY(),$H35:$U35,"<>") -> 0 | X35: =Table1[[#This Row],[Units]]*COUNTIFS($H$3:$U$3,">="&TODAY(),$H35:$U35,"<>") -> 3 | Y35: =Table1[[#This Row],[Completed Units]]+Table1[[#This Row],[Planned or In Progress Units]] -> 3
A36: HS-2196 Church History II | B36: 3 | C36: 1 | D36: X | F36: X | G36: X | U36: X | W36: =Table1[[#This Row],[Units]]*COUNTIFS($H$3:$U$3,"<"&TODAY(),$H36:$U36,"<>") -> 0 | X36: =Table1[[#This Row],[Units]]*COUNTIFS($H$3:$U$3,">="&TODAY(),$H36:$U36,"<>") -> 3 | Y36: =Table1[[#This Row],[Completed Units]]+Table1[[#This Row],[Planned or In Progress Units]] -> 3
A37: Dogmatic / Systematic
A38: STHS-1300 Intro to St. Thomas’s Writings | B38: 1.5 | C38: 1 | G38: X | J38: x | W38: =Table1[[#This Row],[Units]]*COUNTIFS($H$3:$U$3,"<"&TODAY(),$H38:$U38,"<>") -> 0 | X38: =Table1[[#This Row],[Units]]*COUNTIFS($H$3:$U$3,">="&TODAY(),$H38:$U38,"<>") -> 1.5 | Y38: =Table1[[#This Row],[Completed Units]]+Table1[[#This Row],[Planned or In Progress Units]] -> 1.5
A39: ST-1091 Theology: Nature & Method | B39: 3 | C39: 1 | D39: X | F39: X | G39: X | J39: x | W39: =Table1[[#This Row],[Units]]*COUNTIFS($H$3:$U$3,"<"&TODAY(),$H39:$U39,"<>") -> 0 | X39: =Table1[[#This Row],[Units]]*COUNTIFS($H$3:$U$3,">="&TODAY(),$H39:$U39,"<>") -> 3 | Y39: =Table1[[#This Row],[Completed Units]]+Table1[[#This Row],[Planned or In Progress Units]] -> 3
A40: STPH-3095 One Creator God | B40: 3 | C40: 1 | E40: X | F40: X | G40: X | N40: x | W40: =Table1[[#This Row],[Units]]*COUNTIFS($H$3:$U$3,"<"&TODAY(),$H40:$U40,"<>") -> 0 | X40: =Table1[[#This Row],[Units]]*COUNTIFS($H$3:$U$3,">="&TODAY(),$H40:$U40,"<>") -> 3 | Y40: =Table1[[#This Row],[Completed Units]]+Table1[[#This Row],[Planned or In Progress Units]] -> 3
...

Sheet C. Student Courses by Semester
A1: Semester: | B1: ='B. Student Course Plan'!H2 -> Fall 2025 | C1: ='B. Student Course Plan'!I2 -> Spring 2026 | D1: ='B. Student Course Plan'!J2 -> Fall 2026 | E1: ='B. Student Course Plan'!K2 -> Spring 2027 | F1: ='B. Student Course Plan'!L2 -> Fall 2027 | G1: ='B. Student Course Plan'!M2 -> Spring 2028 | H1: ='B. Student Course Plan'!N2 -> Fall 2028 | I1: ='B. Student Course Plan'!O2 -> Spring 2029 | ... O1: ='B. Student Course Plan'!U2 -> Spring 2032 | P1: Course Waivers Granted
A2: Units: | B2: ='B. Student Course Plan'!H4 -> 13.5 | C2: ='B. Student Course Plan'!I4 -> 13.5 | D2: ='B. Student Course Plan'!J4 -> 13.5 | E2: ='B. Student Course Plan'!K4 -> 13.5 | F2: ='B. Student Course Plan'!L4 -> 1.5 | G2: ='B. Student Course Plan'!M4 -> 1.5 | H2: ='B. Student Course Plan'!N4 -> 13.5 | I2: ='B. Student Course Plan'!O4 -> 12 | ... O2: ='B. Student Course Plan'!U4 -> 13.5
A3: Courses: | B3: {=_xlfn._xlws.FILTER('B. Student Course Plan'!$A5:$A86,'B. Student Course Plan'!H5:H86<>"")} -> MA-1101 Graduate Seminar Intro 1 | C3: {=_xlfn._xlws.FILTER('B. Student Course Plan'!$A5:$A86,'B. Student Course Plan'!I5:I86<>"")} -> MA-1102 Graduate Seminar Intro 2 | D3: {=_xlfn._xlws.FILTER('B. Student Course Plan'!$A5:$A86,'B. Student Course Plan'!J5:J86<>"")} -> BS-1032 Latin I | E3: {=_xlfn._xlws.FILTER('B. Student Course Plan'!$A5:$A86,'B. Student Course Plan'!K5:K86<>"")} -> BS-1033 Latin II | F3: {=_xlfn._xlws.FILTER('B. Student Course Plan'!$A5:$A86,'B. Student Course Plan'!L5:L86<>"")} -> FE-2021 Pastoral Ministry Internship Part 1 | G3: {=_xlfn._xlws.FILTER('B. Student Course Plan'!$A5:$A86,'B. Student Course Plan'!M5:M86<>"")} -> FE-2022 Pastoral Ministry Internship Part 2 | H3: {=_xlfn._xlws.FILTER('B. Student Course Plan'!$A5:$A86,'B. Student Course Plan'!N5:N86<>"")} -> NT-2526 Pauline Literature | I3: {=_xlfn._xlws.FILTER('B. Student Course Plan'!$A5:$A86,'B. Student Course Plan'!O5:O86<>"")} -> OT-2098 Pentateuch & Histories | ... P3: {=_xlfn._xlws.FILTER('B. Student Course Plan'!$A5:$A86,'B. Student Course Plan'!V5:V86<>"")} -> Intro to Philosophy
B4: PH-1115 Aristotelian Logic | C4: PH-1065 Theory of Knowledge | D4: PHHS-2000 Modern Philosophy | E4: PHHS-2001 Contemporary Philosophy | H4: STPH-3095 One Creator God | I4: ST-2300 Trinity | J4: STHS-2500 Patristic Theology: Christology and the Early Church Councils | K4: OT-2149 Prophets | L4: ST-3067 Theology of Sacraments | M4: NTBS-2550 The Gospels | N4: STHS-2800 Intro to Eschatology | O4: ST-3128 Theological Anthropology
B5: PH-1056 Philosophy of Nature | C5: PH-2040 Philosophical Anthropology | D5: BS-1560 Intro to Sacred Scripture | E5: CE-2045 Fundamental Moral Theology | H5: ST-2210 Theological Virtues | I5: CE-2003 Roman Catholic Sexual Ethics | J5: CE-3050 Catholic Social Teaching | K5: STHS-2650 Systematic Christology | L5: STSP-3036 Ecclesiology: Foundations | M5: ST-3071 Sacraments: Eucharist & Orders | N5: STHS-2700 Intro to Mariology | O5: ST-1401 Intro to Ecumenism, World Religions
B6: PH-1009 Philosophical Ethics | C6: PH-2050 Metaphysics | D6: STHS-1300 Intro to St. Thomas’s Writings | E6: PS-1016 Pastoral Counseling | H6: HM-1073 Foundations of Preaching | I6: FT-2333 Canon Law of the Sacraments | J6: FE-3023 Field Education Level III Part 3 | K6: ST-2161 Introduction to Spiritual Theology | M6: LSRA-1500 Foundations of Catholic Liturgy | N6: STCE-2211 Cardinal Virtues and Virtue Ethics | O6: HM-2230 Liturgical Preaching
B7: PHHS-1050 History of Philosophy: Ancient | C7: PHHS-1051 History of Philosophy: Medieval | D7: ST-1091 Theology: Nature & Method | E7: FE-1022 Field Education Level I, Part 2 | H7: FT-1400 Introduction to Canon Law | I7: FT-2325 Canon Law of Marriage | J7: 4000 level Elective 1 (if philosophy, probably could also count for STB elective) | K7: LSFT-2404 Celebration of the Sacraments | N7: CEFT-2000 Confessional Ministry | O7: Non-Christian or Interreligious elective (MATh)
B8: PO-1000 Portfolio Research Readiness Paper Review | D8: FE-1021 Field Education Level I, Part 1 | H8: FE-3021 Field Education Level III Part 1 | I8: FE-3022 Field Education Level III Part 2 | J8: STB Political and/or Social Philosophy Elective | K8: FE-3024 Field Education Level III Part 4 | N8: 4000 level Elective 2 (if philosophy, probably could also count for STB elective)
H9: MA-5001 MA Foreign Language Proficiency (MA Thesis Option) | J9: MA-5500 MA Thesis Proposal (MA Thesis Option) | K9: MA 5999 MA Thesis Defense (MA Thesis Option)
J10: MA 5506 MA Capstone Exam (MA Exam Option)

Sheet D. Core Course Projections
A1: Course. Note: X indicates that a course is projected to be offered in a given semester. The schedule of courses listed on the following pages is subject to change. For specific offerings available, consult the DSPT Current Courses webpage. | B1: Units | C1: Cycle (yrs) | D1: MDiv (pre-) req. | E1: RSP req. | F1: STB req. | G1: Fall 2024 | H1: =_xlfn.LET( _xlpm.term, _xlfn.TEXTBEFORE(G1," "), _xlpm.yr, VALUE(_xlfn.TEXTAFTER(G1," ")), CHOOSE( _xlfn.XMATCH(_xlpm.term, {"Spring","Fall"}), "Fall "&_xlpm.yr, "Spring "&(_xlpm.yr+1) ) ) -> Spring 2025 | I1: =_xlfn.LET( _xlpm.term, _xlfn.TEXTBEFORE(H1," "), _xlpm.yr, VALUE(_xlfn.TEXTAFTER(H1," ")), CHOOSE( _xlfn.XMATCH(_xlpm.term, {"Spring","Fall"}), "Fall "&_xlpm.yr, "Spring "&(_xlpm.yr+1) ) ) -> Fall 2025 | J1: =_xlfn.LET( _xlpm.term, _xlfn.TEXTBEFORE(I1," "), _xlpm.yr, VALUE(_xlfn.TEXTAFTER(I1," ")), CHOOSE( _xlfn.XMATCH(_xlpm.term, {"Spring","Fall"}), "Fall "&_xlpm.yr, "Spring "&(_xlpm.yr+1) ) ) -> Spring 2026 | K1: =_xlfn.LET( _xlpm.term, _xlfn.TEXTBEFORE(J1," "), _xlpm.yr, VALUE(_xlfn.TEXTAFTER(J1," ")), CHOOSE( _xlfn.XMATCH(_xlpm.term, {"Spring","Fall"}), "Fall "&_xlpm.yr, "Spring "&(_xlpm.yr+1) ) ) -> Fall 2026 | L1: =_xlfn.LET( _xlpm.term, _xlfn.TEXTBEFORE(K1," "), _xlpm.yr, VALUE(_xlfn.TEXTAFTER(K1," ")), CHOOSE( _xlfn.XMATCH(_xlpm.term, {"Spring","Fall"}), "Fall "&_xlpm.yr, "Spring "&(_xlpm.yr+1) ) ) -> Spring 2027 | M1: =_xlfn.LET( _xlpm.term, _xlfn.TEXTBEFORE(L1," "), _xlpm.yr, VALUE(_xlfn.TEXTAFTER(L1," ")), CHOOSE( _xlfn.XMATCH(_xlpm.term, {"Spring","Fall"}), "Fall "&_xlpm.yr, "Spring "&(_xlpm.yr+1) ) ) -> Fall 2027 | N1: =_xlfn.LET( _xlpm.term, _xlfn.TEXTBEFORE(M1," "), _xlpm.yr, VALUE(_xlfn.TEXTAFTER(M1," ")), CHOOSE( _xlfn.XMATCH(_xlpm.term, {"Spring","Fall"}), "Fall "&_xlpm.yr, "Spring "&(_xlpm.yr+1) ) ) -> Spring 2028 | O1: =_xlfn.LET( _xlpm.term, _xlfn.TEXTBEFORE(N1," "), _xlpm.yr, VALUE(_xlfn.TEXTAFTER(N1," ")), CHOOSE( _xlfn.XMATCH(_xlpm.term, {"Spring","Fall"}), "Fall "&_xlpm.yr, "Spring "&(_xlpm.yr+1) ) ) -> Fall 2028 | ... AB1: =_xlfn.LET( _xlpm.term, _xlfn.TEXTBEFORE(AA1," "), _xlpm.yr, VALUE(_xlfn.TEXTAFTER(AA1," ")), CHOOSE( _xlfn.XMATCH(_xlpm.term, {"Spring","Fall"}), "Fall "&_xlpm.yr, "Spring "&(_xlpm.yr+1) ) ) -> Spring 2035
A2: Academic Practicum Courses
A3: MA-1101 Graduate Seminar Intro 1 | B3: 1.5 | C3: 1 | D3: (pre) | F3: ✔ | G3: X | I3: X | K3: X | M3: X | O3: X | Q3: X | S3: X | U3: X | W3: X | Y3: X | AA3: X
A4: MA-1102 Graduate Seminar Intro 2 | B4: 1.5 | C4: 1 | D4: (pre) | F4: ✔ | H4: X | J4: X | L4: X | N4: X | P4: X | R4: X | T4: X | V4: X | X4: X | Z4: X | AB4: X
A5: MA-4101 Graduate Seminar Capstone 1 | B5: 1.5 | C5: 1 | F5: ✔ | G5: X | I5: X | K5: X | M5: X | O5: X | Q5: X | S5: X | U5: X | W5: X | Y5: X | AA5: X
A6: MA-4102 Graduate Seminar Capstone 2 | B6: 1.5 | C6: 1 | F6: ✔ | H6: X | J6: X | L6: X | N6: X | P6: X | R6: X | T6: X | V6: X | X6: X | Z6: X | AB6: X
A7: Languages
A8: BS-1032 Latin I | B8: 3 | C8: 1 | E8: ✔ | F8: ✔ | K8: X | M8: X | O8: X | Q8: X | S8: X | U8: X | W8: X | Y8: X | AA8: X
A9: BS-1033 Latin II | B9: 3 | C9: 1 | E9: ✔ | F9: ✔ | L9: X | N9: X | P9: X | R9: X | T9: X | V9: X | X9: X | Z9: X | AB9: X
A10: Systematic Philosophy
A11: PH-1115 Aristotelian Logic | B11: 3 | C11: 1 | D11: (pre) | E11: ✔ | F11: ✔ | G11: X | I11: X | K11: X | M11: X | O11: X | Q11: X | S11: X | U11: X | W11: X | Y11: X | AA11: X
A12: PH-1056 Philosophy of Nature | B12: 3 | C12: 1 | D12: (pre) | E12: ✔ | F12: ✔ | G12: X | I12: X | K12: X | M12: X | O12: X | Q12: X | S12: X | U12: X | W12: X | Y12: X | AA12: X
A13: PH-1009 Philosophical Ethics | B13: 3 | C13: 1 | E13: ✔ | F13: ✔ | G13: X | I13: X | K13: X | M13: X | O13: X | Q13: X | S13: X | U13: X | W13: X | Y13: X | AA13: X
A14: PH-1065 Theory of Knowledge | B14: 3 | C14: 1 | E14: ✔ | F14: ✔ | H14: X | J14: X | L14: X | N14: X | P14: X | R14: X | T14: X | V14: X | X14: X | Z14: X | AB14: X
A15: PH-2040 Philosophical Anthropology | B15: 3 | C15: 1 | E15: ✔ | F15: ✔ | H15: X | J15: X | L15: X | N15: X | P15: X | R15: X | T15: X | V15: X | X15: X | Z15: X | AB15: X
A16: PH-2050 Metaphysics | B16: 3 | C16: 1 | E16: ✔ | F16: ✔ | H16: X | J16: X | L16: X | N16: X | P16: X | R16: X | T16: X | V16: X | X16: X | Z16: X | AB16: X
A17: History of Philosophy
A18: PHHS-1050 History of Philosophy: Ancient | B18: 3 | C18: 1 | D18: (pre) | E18: ✔ | F18: ✔ | G18: X | I18: X | K18: X | M18: X | O18: X | Q18: X | S18: X | U18: X | W18: X | Y18: X | AA18: X
A19: PHHS-1051 History of Philosophy: Medieval | B19: 3 | C19: 1 | D19: (pre) | E19: ✔ | F19: ✔ | H19: X | J19: X | L19: X | N19: X | P19: X | R19: X | T19: X | V19: X | X19: X | Z19: X | AB19: X
A20: PHHS-2000 Modern Philosophy | B20: 3 | C20: 1 | D20: (pre) | E20: ✔ | F20: ✔ | G20: X | I20: X | K20: X | M20: X | O20: X | Q20: X | S20: X | U20: X | W20: X | Y20: X | AA20: X
A21: PHHS-2001 Contemporary Philosophy | B21: 3 | C21: 1 | D21: (pre) | E21: ✔ | F21: ✔ | H21: X | J21: X | L21: X | N21: X | P21: X | R21: X | T21: X | V21: X | X21: X | Z21: X | AB21: X
A22: Sacred Scripture
A23: BS-1560 Intro to Sacred Scripture | B23: 3 | C23: 1 | D23: ✔ | E23: ✔ | F23: ✔ | G23: X | I23: X | K23: X | M23: X | O23: X | Q23: X | S23: X | U23: X | W23: X | Y23: X | AA23: X
A24: OT-2098 Pentateuch & Histories | B24: 3 | C24: 1.5 | D24: 5 of 6 | E24: ✔ | F24: ✔ | J24: X | M24: X | P24: X | S24: X | V24: X | Y24: X | AB24: X
A25: OT-2149 Prophets | B25: 3 | C25: 1.5 | D25: 5 of 6 | E25: ✔ | F25: ✔ | I25: X | L25: X | O25: X | R25: X | U25: X | X25: X | AA25: X
A26: OT-2600 Wisdom Lit | B26: 3 | C26: 1.5 | D26: 5 of 6 | E26: ✔ | F26: ✔ | H26: X | K26: X | N26: X | Q26: X | T26: X | W26: X | Z26: X
A27: NTBS-2550 The Gospels | B27: 3 | C27: 1.5 | D27: 5 of 6 | E27: ✔ | F27: ✔ | H27: X | K27: X | N27: X | Q27: X | T27: X | W27: X | Z27: X
A28: NT-2526 Pauline Literature | B28: 3 | C28: 1.5 | D28: 5 of 6 | E28: ✔ | F28: ✔ | H28: X | L28: X | O28: X | R28: X | U28: X | X28: X | AA28: X
A29: NT-2531 Acts, Catholic Epistles, & Revelation | B29: 3 | C29: 1.5 | D29: 5 of 6 | E29: ✔ | F29: ✔ | J29: X | M29: X | P29: X | S29: X | V29: X | Y29: X | AB29: X
A30: Church History
A31: HS-1196 Church History I | B31: 3 | C31: 1 | D31: ✔ | E31: ✔ | F31: ✔ | G31: X | I31: X | K31: X | M31: X | O31: X | Q31: X | S31: X | U31: X | W31: X | Y31: X | AA31: X
A32: HS-2196 Church History II | B32: 3 | C32: 1 | D32: ✔ | E32: ✔ | F32: ✔ | H32: X | J32: X | L32: X | N32: X | P32: X | R32: X | T32: X | V32: X | X32: X | Z32: X | AB32: X
A33: Dogmatic / Systematic
A34: STHS-1300 Intro to St. Thomas’s Writings | B34: 1.5 | C34: 1 | F34: ✔ | G34: X | I34: X | K34: X | M34: X | O34: X | Q34: X | S34: X | U34: X | W34: X | Y34: X | AA34: X
A35: ST-1091 Theology: Nature & Method | B35: 3 | C35: 1 | D35: ✔ | E35: ✔ | F35: ✔ | G35: X | I35: X | K35: X | M35: X | O35: X | Q35: X | S35: X | U35: X | W35: X | Y35: X | AA35: X
A36: STPH-3095 One Creator God | B36: 3 | C36: 1 | E36: ✔ | F36: ✔ | G36: X | I36: X | K36: X | M36: X | O36: X | Q36: X | S36: X | U36: X | W36: X | Y36: X | AA36: X
A37: ST-2300 Trinity | B37: 3 | C37: 2 | D37: ✔ | E37: ✔ | F37: ✔ | H37: X | L37: X | P37: X | T37: X | X37: X | AB37: X
A38: STHS-2500 Patristic Theology: Christology and the Early Church Councils | B38: 3 | C38: 2 | E38: ✔ | F38: ✔ | I38: X | M38: X | Q38: X | U38: X | Y38: X
A39: STHS-2650 Systematic Christology | B39: 3 | C39: 2 | D39: ✔ | E39: ✔ | F39: ✔ | J39: X | N39: X | R39: X | V39: X | Z39: X
A40: STHS-2800 Intro to Eschatology | B40: 1.5 | C40: 2 | F40: ✔ | I40: X | M40: X | Q40: X | U40: X | Y40: X
...

Sheet E. Legend
A1: Term | B1: Notes
A2: Biennium | B2: The first two years of an STB are called the Biennium, consisting of mostly philosophy and introductory theology courses. For those only doing the MDiv, this is a time for prerequisites, prepatory coursework, and gateway theology intro courses.
A3: Triennium | B3: In the STB, after the Biennium comes the Triennium, consisting of intermediate and upper division theology courses
A4: Scheduling Cycle (yrs) | B4: Some courses are offered every year. Some are cycled, offered every 2 years or every 1.5 years.
A5: MDiv req. or pre-req. | B5: An 'X' in this column indicates this course is a required course in the MDiv. (pre) indicates this is a pre-requisite for the MDiv
A6: RSP req. | B6: An 'X' in this column indicates this course is required in the Ratio Studiorum Particularis of the Western Dominican Province for brothers in clerical formation
A7: STB req. | B7: An 'X' in this column indicates this course is a required course in the Baccalaureate of (Sacred) Theology (STB) offered through the St. Albert's Institue, through affiliation with the Angelicum.
A8: Residency Year | B8: Dominican Student brothers usually have a pastoral year after the biennium, in which they are assigned to a ministry site. During this time, they should register for FE-2021 Pastoral Ministry Internship Part 1 & 2. They should also register for 9 units of MDV 3050 Dominican Residency Program in both Fall and Spring semester, so as to maintain full-time student status. (The latter does not appear in tab B.) If you will not have a residency year, you can rename the header for these columns, and fill them out as other academic years.
A9: Dominican Year Abroad | B9: Dominican Student brothers usually spend one year of studies in another province. They will need to look at the course catalog of the school they will attend to find what courses may be equivalent to required DSPT courses. They can communicate about their course plans with DSPT's Academic Dean before leaving to get assurances that the courses they plan to take can be transferred to their DSPT/SAI program.
A10: Completed Units | B10: The Completed Units calcualtes the number of units completed for each requirement before the current date. It uses an approximate end date for each semester to estimate which semesters are complete.
A11: Course Waiver (Granted Petition) | B11: Enter "yes" if you were granted a petition for a course waiver for this requirement (This is sometimes called advanced standing). If you enter "yes", the corresponding cell in the Total Planned and Completed Units column will turn green to show that this requirement is fulfilled. You would still need to complete the unit requirement with another course. See the instructions on the Petition for Course Waiver.
